BEGIN:VCALENDAR
VERSION:2.0
PRODID:-//UNIVERSITY OF TEXAS SCHOOL OF LAW//NONSGML Events Calendar v1.0//EN
X-WR-TIMEZONE:America/Chicago
BEGIN:VTIMEZONE
TZID:US/Central
X-LIC-LOCATION:America/Chicago
BEGIN:DAYLIGHT
TZOFFSETFROM:-0600
TZOFFSETTO:-0500
TZNAME:CDT
DTSTART:19700308T020000
RRULE:FREQ=YEARLY;BYMONTH=3;BYDAY=2SU
END:DAYLIGHT
BEGIN:STANDARD
TZOFFSETFROM:-0500
TZOFFSETTO:-0600
TZNAME:CST
DTSTART:19701101T020000
RRULE:FREQ=YEARLY;BYMONTH=11;BYDAY=1SU
END:STANDARD
END:VTIMEZONE
BEGIN:VEVENT
DTSTART;TZID=US/Central:20170419T114500
DTEND;VALUE=DATE-TIME;TZID=US/Central:20170419T130000

DTSTAMP:20260420T114800Z
CREATED:20170417T163200Z
LAST-MODIFIED:20170417T163200Z
UID:20170419T114500-30544@law.utexas.edu
SUMMARY:Fighting Corruption with State Dep't
DESCRIPTION:<p>Ms. Lisa Kubiske, Deputy Assistant Secretary of State for International Finance and Development, will be coming to Texas Law to speak about the Economic Bureau’s work fighting corruption and encouraging governments to be open and transparent. In addition, she will discuss how the State Department works with various international financial institutions to promote economic growth and development. </p>
  <p>Ms. Kubiske is a US diplomat with experience in Latin America, China/Hong Kong, and Washington D.C. She has also served as the US Ambassador to Honduras, Deputy Chief of Mission in Brazil, and Deputy Chief of Mission in the Dominican Republic. </p>
  <p>Her experience includes serving as the Western Hemisphere Economics Director at the State Department; Officer in the State Department's Operations Center and Secretariat Staff; Investment Director and Negotiator at the United States Trade Representative's Office (USTR); chief of the Economic-Political Section at the United States Consulate General in Hong Kong; and additional work in Shanghai, China and in Mexico, DF, Mexico.</p>\n\nIf you need an accommodation to participate in this event, please contact the event sponsor or the Texas Law Special Events Office at specialevents@law.utexas.edu no later than seven business days prior to the event.
X-ALT-DESC;FMTTYPE=text/html:<p>Ms. Lisa Kubiske, Deputy Assistant Secretary of State for International Finance and Development, will be coming to Texas Law to speak about the Economic Bureau’s work fighting corruption and encouraging governments to be open and transparent. In addition, she will discuss how the State Department works with various international financial institutions to promote economic growth and development. </p>
  <p>Ms. Kubiske is a US diplomat with experience in Latin America, China/Hong Kong, and Washington D.C. She has also served as the US Ambassador to Honduras, Deputy Chief of Mission in Brazil, and Deputy Chief of Mission in the Dominican Republic. </p>
  <p>Her experience includes serving as the Western Hemisphere Economics Director at the State Department; Officer in the State Department's Operations Center and Secretariat Staff; Investment Director and Negotiator at the United States Trade Representative's Office (USTR); chief of the Economic-Political Section at the United States Consulate General in Hong Kong; and additional work in Shanghai, China and in Mexico, DF, Mexico.</p><p>If you need an accommodation to participate in this event, please contact the event
                                          event sponsor or the Texas Law Special Events Office at <a href="mailto:specialevents@law.utexas.edu">specialevents@law.utexas.edu</a> no later than seven business days prior to the event.</p>
CATEGORIES:Panel Discussion / Speaker Series
LOCATION:TNH 3.125 - Denius Classroom
URL:http://law.utexas.edu/calendar/2017/04/19/30544/
CLASS:PUBLIC
STATUS:CONFIRMED

END:VEVENT
END:VCALENDAR