BEGIN:VCALENDAR
VERSION:2.0
PRODID:-//UNIVERSITY OF TEXAS SCHOOL OF LAW//NONSGML Events Calendar v1.0//EN
X-WR-TIMEZONE:America/Chicago
BEGIN:VTIMEZONE
TZID:US/Central
X-LIC-LOCATION:America/Chicago
BEGIN:DAYLIGHT
TZOFFSETFROM:-0600
TZOFFSETTO:-0500
TZNAME:CDT
DTSTART:19700308T020000
RRULE:FREQ=YEARLY;BYMONTH=3;BYDAY=2SU
END:DAYLIGHT
BEGIN:STANDARD
TZOFFSETFROM:-0500
TZOFFSETTO:-0600
TZNAME:CST
DTSTART:19701101T020000
RRULE:FREQ=YEARLY;BYMONTH=11;BYDAY=1SU
END:STANDARD
END:VTIMEZONE
BEGIN:VEVENT
DTSTART;TZID=US/Central:20170420T114500
DTEND;VALUE=DATE-TIME;TZID=US/Central:20170420T124500

DTSTAMP:20260420T114700Z
CREATED:20170113T155800Z
LAST-MODIFIED:20170203T201300Z
UID:20170420T114500-28265@law.utexas.edu
SUMMARY:CANCELED: Federal Honors Programs
DESCRIPTION:<p>RSVP by WEDNESDAY, APRIL 19. Are you a 1L interested in federal government work? Are you a 2L thinking of applying for Federal Honors Programs? Are you a 3L planning to apply for Federal Honors Programs after your judicial clerkship? Come meet our panel of federal Honors Attorneys who will tell you about their experiences with these prestigious postgraduate programs.</p>
  <p>Panelists TBD. Lunch will be served. </p>
  <p>RSVP by WEDNESDAY, APRIL 19 on <a href="https://law-utexas-csm.symplicity.com/students/">Symplicity</a> by selecting the “Events” tab. </p>\n\nIf you need an accommodation to participate in this event, please contact the event sponsor or the Texas Law Special Events Office at specialevents@law.utexas.edu no later than seven business days prior to the event.
X-ALT-DESC;FMTTYPE=text/html:<p>RSVP by WEDNESDAY, APRIL 19. Are you a 1L interested in federal government work? Are you a 2L thinking of applying for Federal Honors Programs? Are you a 3L planning to apply for Federal Honors Programs after your judicial clerkship? Come meet our panel of federal Honors Attorneys who will tell you about their experiences with these prestigious postgraduate programs.</p>
  <p>Panelists TBD. Lunch will be served. </p>
  <p>RSVP by WEDNESDAY, APRIL 19 on <a href="https://law-utexas-csm.symplicity.com/students/">Symplicity</a> by selecting the “Events” tab. </p><p>If you need an accommodation to participate in this event, please contact the event
                                          event sponsor or the Texas Law Special Events Office at <a href="mailto:specialevents@law.utexas.edu">specialevents@law.utexas.edu</a> no later than seven business days prior to the event.</p>
CATEGORIES:Workshop / Training Program
LOCATION:TNH 3.142 - Walker Classroom
URL:http://law.utexas.edu/calendar/2017/04/20/28265/
CLASS:PUBLIC
STATUS:CANCELLED
COMMENT:Please contact Denyse Demel, Government Career Counselor, at 512-232-1162 or <a href="mailto:ddemel@law.utexas.edu">ddemel@law.utexas.edu.</a>
END:VEVENT
END:VCALENDAR