BEGIN:VCALENDAR
VERSION:2.0
PRODID:-//UNIVERSITY OF TEXAS SCHOOL OF LAW//NONSGML Events Calendar v1.0//EN
X-WR-TIMEZONE:America/Chicago
BEGIN:VTIMEZONE
TZID:US/Central
X-LIC-LOCATION:America/Chicago
BEGIN:DAYLIGHT
TZOFFSETFROM:-0600
TZOFFSETTO:-0500
TZNAME:CDT
DTSTART:19700308T020000
RRULE:FREQ=YEARLY;BYMONTH=3;BYDAY=2SU
END:DAYLIGHT
BEGIN:STANDARD
TZOFFSETFROM:-0500
TZOFFSETTO:-0600
TZNAME:CST
DTSTART:19701101T020000
RRULE:FREQ=YEARLY;BYMONTH=11;BYDAY=1SU
END:STANDARD
END:VTIMEZONE
BEGIN:VEVENT
DTSTART;TZID=US/Central:20170421T120000
DTEND;VALUE=DATE-TIME;TZID=US/Central:20170421T133000

DTSTAMP:20260420T130000Z
CREATED:20170412T133600Z
LAST-MODIFIED:20170412T133600Z
UID:20170421T120000-30484@law.utexas.edu
SUMMARY:Mental Health and Criminal Justice
DESCRIPTION:<p>"Criminalizing mental illness is expensive [and] it is ineffective" 
  Sally Hernandez, Travis County Sheriff </p>
  <p>
  People with mental illness are greatly overrepresented among the millions of individuals cycling through our criminal justice system. Travis County is no exception, with the number of jail inmates with mental illness trending steeply upward over the past ten years. Steps have been taken to address the issue through the Health Justice Learning Collaborative and other efforts, but more is needed.</p>
  <p>Join our discussion with key stakeholders, including County Judge Sarah Eckhardt, Mindy Montford (Travis County District Attorney's Office), Sherry Blyth (Austin Travis County Integral Care), Assistant Chief Joe Chacon (Austin Police Department), and Danny Smith (Travis County Sheriff's Office), to learn what’s happening in our community to strengthen cross-system collaboration, create more robust integrated systems of care in Travis County, and reduce criminal justice involvement for individuals with mental illnesses.</p>
  <p>Lunch Series Co-Sponsors:</p>
  <p>The Institute for Urban Policy Research &amp; Analysis 
  The William Wayne Justice Center for Public Interest Law 
  The Lyndon B. Johnson School of Public Affairs
  The Longhorn Center for Community Engagement 
  The Graduate Program in Community &amp; Regional Planning 
  Austin/Travis County Reentry Roundtable</p>\n\nIf you need an accommodation to participate in this event, please contact the event sponsor or the Texas Law Special Events Office at specialevents@law.utexas.edu no later than seven business days prior to the event.
X-ALT-DESC;FMTTYPE=text/html:<p>"Criminalizing mental illness is expensive [and] it is ineffective" 
  Sally Hernandez, Travis County Sheriff </p>
  <p>
  People with mental illness are greatly overrepresented among the millions of individuals cycling through our criminal justice system. Travis County is no exception, with the number of jail inmates with mental illness trending steeply upward over the past ten years. Steps have been taken to address the issue through the Health Justice Learning Collaborative and other efforts, but more is needed.</p>
  <p>Join our discussion with key stakeholders, including County Judge Sarah Eckhardt, Mindy Montford (Travis County District Attorney's Office), Sherry Blyth (Austin Travis County Integral Care), Assistant Chief Joe Chacon (Austin Police Department), and Danny Smith (Travis County Sheriff's Office), to learn what’s happening in our community to strengthen cross-system collaboration, create more robust integrated systems of care in Travis County, and reduce criminal justice involvement for individuals with mental illnesses.</p>
  <p>Lunch Series Co-Sponsors:</p>
  <p>The Institute for Urban Policy Research &amp; Analysis 
  The William Wayne Justice Center for Public Interest Law 
  The Lyndon B. Johnson School of Public Affairs
  The Longhorn Center for Community Engagement 
  The Graduate Program in Community &amp; Regional Planning 
  Austin/Travis County Reentry Roundtable</p><p>If you need an accommodation to participate in this event, please contact the event
                                          event sponsor or the Texas Law Special Events Office at <a href="mailto:specialevents@law.utexas.edu">specialevents@law.utexas.edu</a> no later than seven business days prior to the event.</p>
CATEGORIES:Panel Discussion / Speaker Series
LOCATION:LBJ School, Room 3.122
URL:http://law.utexas.edu/calendar/2017/04/21/30484/
CLASS:PUBLIC
STATUS:CONFIRMED

END:VEVENT
END:VCALENDAR