BEGIN:VCALENDAR
VERSION:2.0
PRODID:-//UNIVERSITY OF TEXAS SCHOOL OF LAW//NONSGML Events Calendar v1.0//EN
X-WR-TIMEZONE:America/Chicago
BEGIN:VTIMEZONE
TZID:US/Central
X-LIC-LOCATION:America/Chicago
BEGIN:DAYLIGHT
TZOFFSETFROM:-0600
TZOFFSETTO:-0500
TZNAME:CDT
DTSTART:19700308T020000
RRULE:FREQ=YEARLY;BYMONTH=3;BYDAY=2SU
END:DAYLIGHT
BEGIN:STANDARD
TZOFFSETFROM:-0500
TZOFFSETTO:-0600
TZNAME:CST
DTSTART:19701101T020000
RRULE:FREQ=YEARLY;BYMONTH=11;BYDAY=1SU
END:STANDARD
END:VTIMEZONE
BEGIN:VEVENT
DTSTART;TZID=US/Central:20170424T131500
DTEND;VALUE=DATE-TIME;TZID=US/Central:20170424T140000

DTSTAMP:20260420T132500Z
CREATED:20170322T215100Z
LAST-MODIFIED:20170323T152800Z
UID:20170424T131500-29905@law.utexas.edu
SUMMARY:Guest Speaker Christopher Bodner
DESCRIPTION:<p>Christopher Bodnar, Assistant United States Attorney for the Southern District of Alabama and UT LAW graduate will join us to discuss Anti-Terrorism, White Collar Fraud, and his recently concluded pill mill case. Mr. Bodnar will also answer questions about his work for the Department of Justice and their hiring process. He will speak as Professor Klein's guest in her Federal Criminal Law course. </p>\n\nIf you need an accommodation to participate in this event, please contact the event sponsor or the Texas Law Special Events Office at specialevents@law.utexas.edu no later than seven business days prior to the event.
X-ALT-DESC;FMTTYPE=text/html:<p>Christopher Bodnar, Assistant United States Attorney for the Southern District of Alabama and UT LAW graduate will join us to discuss Anti-Terrorism, White Collar Fraud, and his recently concluded pill mill case. Mr. Bodnar will also answer questions about his work for the Department of Justice and their hiring process. He will speak as Professor Klein's guest in her Federal Criminal Law course. </p><p>If you need an accommodation to participate in this event, please contact the event
                                          event sponsor or the Texas Law Special Events Office at <a href="mailto:specialevents@law.utexas.edu">specialevents@law.utexas.edu</a> no later than seven business days prior to the event.</p>
CATEGORIES:Other
LOCATION:TNH 2.124 - Reaud Classroom
URL:http://law.utexas.edu/calendar/2017/04/24/29905/
CLASS:PUBLIC
STATUS:CONFIRMED

END:VEVENT
END:VCALENDAR