BEGIN:VCALENDAR
VERSION:2.0
PRODID:-//UNIVERSITY OF TEXAS SCHOOL OF LAW//NONSGML Events Calendar v1.0//EN
X-WR-TIMEZONE:America/Chicago
BEGIN:VTIMEZONE
TZID:US/Central
X-LIC-LOCATION:America/Chicago
BEGIN:DAYLIGHT
TZOFFSETFROM:-0600
TZOFFSETTO:-0500
TZNAME:CDT
DTSTART:19700308T020000
RRULE:FREQ=YEARLY;BYMONTH=3;BYDAY=2SU
END:DAYLIGHT
BEGIN:STANDARD
TZOFFSETFROM:-0500
TZOFFSETTO:-0600
TZNAME:CST
DTSTART:19701101T020000
RRULE:FREQ=YEARLY;BYMONTH=11;BYDAY=1SU
END:STANDARD
END:VTIMEZONE
BEGIN:VEVENT
DTSTART;TZID=US/Central:20170424T143000
DTEND;VALUE=DATE-TIME;TZID=US/Central:20170424T163000

DTSTAMP:20260420T115700Z
CREATED:20170324T141500Z
LAST-MODIFIED:20170424T150700Z
UID:20170424T143000-29927@law.utexas.edu
SUMMARY:Meetings with Chris Bodnar
DESCRIPTION:<p>Are you interested in a career in federal prosecution? Christopher Bodnar, ’08, Assistant U.S. Attorney and National Security/ATAC Coordinator with the Southern District of Alabama, will be meeting with students in scheduled one-on-one meetings today.</p>
  <p>To schedule a meeting, stop by the CSO in TNH 3.130 or call 512-232-1150.     
  </p>\n\nIf you need an accommodation to participate in this event, please contact the event sponsor or the Texas Law Special Events Office at specialevents@law.utexas.edu no later than seven business days prior to the event.
X-ALT-DESC;FMTTYPE=text/html:<p>Are you interested in a career in federal prosecution? Christopher Bodnar, ’08, Assistant U.S. Attorney and National Security/ATAC Coordinator with the Southern District of Alabama, will be meeting with students in scheduled one-on-one meetings today.</p>
  <p>To schedule a meeting, stop by the CSO in TNH 3.130 or call 512-232-1150.     
  </p><p>If you need an accommodation to participate in this event, please contact the event
                                          event sponsor or the Texas Law Special Events Office at <a href="mailto:specialevents@law.utexas.edu">specialevents@law.utexas.edu</a> no later than seven business days prior to the event.</p>
CATEGORIES:Workshop / Training Program
LOCATION:Interview Suite (TNH3.122)
URL:http://law.utexas.edu/calendar/2017/04/24/29927/
CLASS:PUBLIC
STATUS:CONFIRMED
COMMENT:Please contact Denyse Demel at 512-232-1162 or <a href="mailto:%20ddemel@law.utexas.edu">ddemel@law.utexas.edu</a>.
END:VEVENT
END:VCALENDAR