BEGIN:VCALENDAR
VERSION:2.0
PRODID:-//UNIVERSITY OF TEXAS SCHOOL OF LAW//NONSGML Events Calendar v1.0//EN
X-WR-TIMEZONE:America/Chicago
BEGIN:VTIMEZONE
TZID:US/Central
X-LIC-LOCATION:America/Chicago
BEGIN:DAYLIGHT
TZOFFSETFROM:-0600
TZOFFSETTO:-0500
TZNAME:CDT
DTSTART:19700308T020000
RRULE:FREQ=YEARLY;BYMONTH=3;BYDAY=2SU
END:DAYLIGHT
BEGIN:STANDARD
TZOFFSETFROM:-0500
TZOFFSETTO:-0600
TZNAME:CST
DTSTART:19701101T020000
RRULE:FREQ=YEARLY;BYMONTH=11;BYDAY=1SU
END:STANDARD
END:VTIMEZONE
BEGIN:VEVENT
DTSTART;TZID=US/Central:20170427T180000
DTEND;VALUE=DATE-TIME;TZID=US/Central:20170427T200000

DTSTAMP:20260422T174200Z
CREATED:20170411T203000Z
LAST-MODIFIED:20170414T173400Z
UID:20170427T180000-30446@law.utexas.edu
SUMMARY:First Decade of US-Mexico Border Wall
DESCRIPTION:<p>This symposium marks the 10-year anniversary of the implementation of the Secure Fence Act and it reflects on the potential expansion and hardening of the physical and political reality of the U.S. border wall. It brings together interdisciplinary panels of expert researchers, scholars, activists, and community members who have studied, documented, and experienced the impacts of this structure.</p>
  <p>Join us from 6-8pm for a reception and exhibition of "Continental Divide: Borderlands Wildlife, People and the Wall." Continental Divide is an exhibit of 30 large canvas photo prints that depict the land, wildlife and people of the borderlands of the United States and Mexico, and the impact that construction of a border wall is having on them. The images in the exhibit were taken primarily during a three and a half week expedition with the International League of Conservation Photographers along the 2000-mile border between the United States and Mexico. The expedition included 13 photographers who documented a diverse range of borderlands flora, fauna and cultures.</p>\n\nIf you need an accommodation to participate in this event, please contact the event sponsor or the Texas Law Special Events Office at specialevents@law.utexas.edu no later than seven business days prior to the event.
X-ALT-DESC;FMTTYPE=text/html:<p>This symposium marks the 10-year anniversary of the implementation of the Secure Fence Act and it reflects on the potential expansion and hardening of the physical and political reality of the U.S. border wall. It brings together interdisciplinary panels of expert researchers, scholars, activists, and community members who have studied, documented, and experienced the impacts of this structure.</p>
  <p>Join us from 6-8pm for a reception and exhibition of "Continental Divide: Borderlands Wildlife, People and the Wall." Continental Divide is an exhibit of 30 large canvas photo prints that depict the land, wildlife and people of the borderlands of the United States and Mexico, and the impact that construction of a border wall is having on them. The images in the exhibit were taken primarily during a three and a half week expedition with the International League of Conservation Photographers along the 2000-mile border between the United States and Mexico. The expedition included 13 photographers who documented a diverse range of borderlands flora, fauna and cultures.</p><p>If you need an accommodation to participate in this event, please contact the event
                                          event sponsor or the Texas Law Special Events Office at <a href="mailto:specialevents@law.utexas.edu">specialevents@law.utexas.edu</a> no later than seven business days prior to the event.</p>
CATEGORIES:Reception
LOCATION:CCJ 2.300 - Jamail Pavilion
URL:http://law.utexas.edu/calendar/2017/04/27/30446/
CLASS:PUBLIC
STATUS:CONFIRMED

END:VEVENT
END:VCALENDAR