BEGIN:VCALENDAR
VERSION:2.0
PRODID:-//UNIVERSITY OF TEXAS SCHOOL OF LAW//NONSGML Events Calendar v1.0//EN
X-WR-TIMEZONE:America/Chicago
BEGIN:VTIMEZONE
TZID:US/Central
X-LIC-LOCATION:America/Chicago
BEGIN:DAYLIGHT
TZOFFSETFROM:-0600
TZOFFSETTO:-0500
TZNAME:CDT
DTSTART:19700308T020000
RRULE:FREQ=YEARLY;BYMONTH=3;BYDAY=2SU
END:DAYLIGHT
BEGIN:STANDARD
TZOFFSETFROM:-0500
TZOFFSETTO:-0600
TZNAME:CST
DTSTART:19701101T020000
RRULE:FREQ=YEARLY;BYMONTH=11;BYDAY=1SU
END:STANDARD
END:VTIMEZONE
BEGIN:VEVENT
DTSTART;TZID=US/Central:20170428T083000
DTEND;VALUE=DATE-TIME;TZID=US/Central:20170428T180000

DTSTAMP:20260422T203800Z
CREATED:20170322T201100Z
LAST-MODIFIED:20170414T174000Z
UID:20170428T083000-29904@law.utexas.edu
SUMMARY:First Decade of US-Mexico Border Wall
DESCRIPTION:<p>This symposium marks the 10-year anniversary of the implementation of the Secure Fence Act and it reflects on the potential expansion and hardening of the physical and political reality of the U.S. border wall. It brings together interdisciplinary panels of expert researchers, scholars, activists, and community members who have studied, documented, and experienced the impacts of this structure.</p>
  <p>For the full schedule, please see the website.</p>
  <p>Supporters: Rapoport Center for Human Rights and Justice, MALS, CMAS, College of Liberal Arts, History, LLILAS, Sociology, American Studies, and Division of Diversity and Community Engagement</p>\n\nIf you need an accommodation to participate in this event, please contact the event sponsor or the Texas Law Special Events Office at specialevents@law.utexas.edu no later than seven business days prior to the event.
X-ALT-DESC;FMTTYPE=text/html:<p>This symposium marks the 10-year anniversary of the implementation of the Secure Fence Act and it reflects on the potential expansion and hardening of the physical and political reality of the U.S. border wall. It brings together interdisciplinary panels of expert researchers, scholars, activists, and community members who have studied, documented, and experienced the impacts of this structure.</p>
  <p>For the full schedule, please see the website.</p>
  <p>Supporters: Rapoport Center for Human Rights and Justice, MALS, CMAS, College of Liberal Arts, History, LLILAS, Sociology, American Studies, and Division of Diversity and Community Engagement</p><p>If you need an accommodation to participate in this event, please contact the event
                                          event sponsor or the Texas Law Special Events Office at <a href="mailto:specialevents@law.utexas.edu">specialevents@law.utexas.edu</a> no later than seven business days prior to the event.</p>
CATEGORIES:Symposium
LOCATION:CCJ 2.306 - Eidman Courtroom
URL:http://law.utexas.edu/calendar/2017/04/28/29904/
CLASS:PUBLIC
STATUS:CONFIRMED

END:VEVENT
END:VCALENDAR