BEGIN:VCALENDAR
VERSION:2.0
PRODID:-//UNIVERSITY OF TEXAS SCHOOL OF LAW//NONSGML Events Calendar v1.0//EN
X-WR-TIMEZONE:America/Chicago
BEGIN:VTIMEZONE
TZID:US/Central
X-LIC-LOCATION:America/Chicago
BEGIN:DAYLIGHT
TZOFFSETFROM:-0600
TZOFFSETTO:-0500
TZNAME:CDT
DTSTART:19700308T020000
RRULE:FREQ=YEARLY;BYMONTH=3;BYDAY=2SU
END:DAYLIGHT
BEGIN:STANDARD
TZOFFSETFROM:-0500
TZOFFSETTO:-0600
TZNAME:CST
DTSTART:19701101T020000
RRULE:FREQ=YEARLY;BYMONTH=11;BYDAY=1SU
END:STANDARD
END:VTIMEZONE
BEGIN:VEVENT
DTSTART;TZID=US/Central:20170508T120000
DTEND;VALUE=DATE-TIME;TZID=US/Central:20170508T180000

DTSTAMP:20260420T130100Z
CREATED:20170418T173700Z
LAST-MODIFIED:20170418T191400Z
UID:20170508T120000-30584@law.utexas.edu
SUMMARY:Baby Markets / Repro Rights Roundtable
DESCRIPTION:<p>A group of about 20 Legal Scholars who meet at a different law school each year for a workshop on article drafts which relate to legal, ethical, and policy issues in reproductive medicine, assisted reproduction, surrogate motherhood, adoption, etc.</p>\n\nIf you need an accommodation to participate in this event, please contact the event sponsor or the Texas Law Special Events Office at specialevents@law.utexas.edu no later than seven business days prior to the event.
X-ALT-DESC;FMTTYPE=text/html:<p>A group of about 20 Legal Scholars who meet at a different law school each year for a workshop on article drafts which relate to legal, ethical, and policy issues in reproductive medicine, assisted reproduction, surrogate motherhood, adoption, etc.</p><p>If you need an accommodation to participate in this event, please contact the event
                                          event sponsor or the Texas Law Special Events Office at <a href="mailto:specialevents@law.utexas.edu">specialevents@law.utexas.edu</a> no later than seven business days prior to the event.</p>
CATEGORIES:Panel Discussion / Speaker Series
LOCATION:TNH 2.111 - Sheffield-Massey Room
URL:http://law.utexas.edu/calendar/2017/05/08/30584/
CLASS:PUBLIC
STATUS:CONFIRMED

END:VEVENT
END:VCALENDAR