BEGIN:VCALENDAR
VERSION:2.0
PRODID:-//UNIVERSITY OF TEXAS SCHOOL OF LAW//NONSGML Events Calendar v1.0//EN
X-WR-TIMEZONE:America/Chicago
BEGIN:VTIMEZONE
TZID:US/Central
X-LIC-LOCATION:America/Chicago
BEGIN:DAYLIGHT
TZOFFSETFROM:-0600
TZOFFSETTO:-0500
TZNAME:CDT
DTSTART:19700308T020000
RRULE:FREQ=YEARLY;BYMONTH=3;BYDAY=2SU
END:DAYLIGHT
BEGIN:STANDARD
TZOFFSETFROM:-0500
TZOFFSETTO:-0600
TZNAME:CST
DTSTART:19701101T020000
RRULE:FREQ=YEARLY;BYMONTH=11;BYDAY=1SU
END:STANDARD
END:VTIMEZONE
BEGIN:VEVENT
DTSTART;TZID=US/Central:20170613T173000
DTEND;VALUE=DATE-TIME;TZID=US/Central:20170613T190000

DTSTAMP:20260420T071100Z
CREATED:20170426T153400Z
LAST-MODIFIED:20170524T155300Z
UID:20170613T173000-30765@law.utexas.edu
SUMMARY:Houston Summer Student/Alumni Reception
DESCRIPTION:<p>Student/Alumni Reception </p>
  <p>Abraham, Watkins, Nichols, Sorrels, Agosto &amp; Aziz
  800 Commerce Street
  Houston, Texas</p>
  <p>5:30 – 7:00 p.m.</p>\n\nIf you need an accommodation to participate in this event, please contact the event sponsor or the Texas Law Special Events Office at specialevents@law.utexas.edu no later than seven business days prior to the event.
X-ALT-DESC;FMTTYPE=text/html:<p>Student/Alumni Reception </p>
  <p>Abraham, Watkins, Nichols, Sorrels, Agosto &amp; Aziz
  800 Commerce Street
  Houston, Texas</p>
  <p>5:30 – 7:00 p.m.</p><p>If you need an accommodation to participate in this event, please contact the event
                                          event sponsor or the Texas Law Special Events Office at <a href="mailto:specialevents@law.utexas.edu">specialevents@law.utexas.edu</a> no later than seven business days prior to the event.</p>
CATEGORIES:Reception

URL:http://law.utexas.edu/calendar/2017/06/13/30765/
CLASS:PUBLIC
STATUS:CONFIRMED

END:VEVENT
END:VCALENDAR