BEGIN:VCALENDAR
VERSION:2.0
PRODID:-//UNIVERSITY OF TEXAS SCHOOL OF LAW//NONSGML Events Calendar v1.0//EN
X-WR-TIMEZONE:America/Chicago
BEGIN:VTIMEZONE
TZID:US/Central
X-LIC-LOCATION:America/Chicago
BEGIN:DAYLIGHT
TZOFFSETFROM:-0600
TZOFFSETTO:-0500
TZNAME:CDT
DTSTART:19700308T020000
RRULE:FREQ=YEARLY;BYMONTH=3;BYDAY=2SU
END:DAYLIGHT
BEGIN:STANDARD
TZOFFSETFROM:-0500
TZOFFSETTO:-0600
TZNAME:CST
DTSTART:19701101T020000
RRULE:FREQ=YEARLY;BYMONTH=11;BYDAY=1SU
END:STANDARD
END:VTIMEZONE
BEGIN:VEVENT
DTSTART;TZID=US/Central:20170620
DTEND;TZID=US/Central:20170621
X-MICROSOFT-CDO-ALLDAYEVENT:TRUE
X-FUNAMBOL-ALLDAY:TRUE
DTSTAMP:20260420T071200Z
CREATED:20170614T201900Z
LAST-MODIFIED:20170614T201900Z
UID:20170620T000000-31290@law.utexas.edu
SUMMARY:2017 Boston and New York Job Fairs Open
DESCRIPTION:<p>The application period for both the 2017 UTexas on Tour: Boston Job Fair Walk-Around and New York Job Fair begins on Wednesday, June 14 at Noon (CT) and ends Wednesday, June 21 at Noon (CT). While the application process is not on a first-come, first-served basis, we strongly encourage students to apply as soon as possible to avoid any document upload/conversion errors in Symplicity.</p>
  <p>NOTE: Your transcript is NOT automatically updated in Symplicity. Please upload the most recent version of your transcript using the CSO transcript generator at: <a href="https://utdirect.utexas.edu/locso/trap.WBX.">https://utdirect.utexas.edu/locso/trap.WBX.</a></p>
  <p>Please read the step-by-step instructions below on submitting your application: </p>
  <p>Login to Symplicity  ( <a href="https://law-utexas-csm.symplicity.com/students">https://law-utexas-csm.symplicity.com/students</a> )
  1.  Click on the [ Interview Programs ] tab on the top navigation bar. 
  2.  Click on the [ Employers/Applications ] tab. 
  3.  Filter the employer list by selecting [ 2017 Boston Job Fair Walk-Around] or [2017 New York Job Fair ] from the [ Session ] drop-down menu. Click [ Search ].  The resulting list of employers contains only those that have requested your class year. These are the employers you are eligible to submit (apply) your resume to.  
  4.  Click the [ Review ] button from the list of employers. You will then be redirected to a review page. 
  5.  To apply, click the [ Apply ] button in the [ Bid Details ] box to the right of the screen. Pay close attention to this box. If a document type is listed here, it is a REQUIRED document for this specific employer. For example: If "cover letter" is in this box, and "none found" is to the right, you must return to the [ Documents ] section and upload a cover letter. 
  6.  Note: Your "default resume" will be included with each application. To submit a different resume (or any requested documents) from those uploaded in your [ Documents ] section, select the appropriate document from the drop-down in the [ Bid Details ] box.
  7.  Note:  UT Law Symplicity requires you to rank each employer for which you submit an application (bid).  You will notice a [ Bid ] drop-down box.  Because these fairs are 100% preselect, which means employers choose who they want to interview, the bid box is irrelevant.  You must still rank your bid, however.
  8.  Note:  The [ Preferred Location(s) ] box will appear on most applications.
  - If there is only one office, list this office.
  - If there is more than one office for the application, type in all offices of interest.</p>
  <p>Please make sure that you finalize your selections before the application submission deadline.
  </p>\n\nIf you need an accommodation to participate in this event, please contact the event sponsor or the Texas Law Special Events Office at specialevents@law.utexas.edu no later than seven business days prior to the event.
X-ALT-DESC;FMTTYPE=text/html:<p>The application period for both the 2017 UTexas on Tour: Boston Job Fair Walk-Around and New York Job Fair begins on Wednesday, June 14 at Noon (CT) and ends Wednesday, June 21 at Noon (CT). While the application process is not on a first-come, first-served basis, we strongly encourage students to apply as soon as possible to avoid any document upload/conversion errors in Symplicity.</p>
  <p>NOTE: Your transcript is NOT automatically updated in Symplicity. Please upload the most recent version of your transcript using the CSO transcript generator at: <a href="https://utdirect.utexas.edu/locso/trap.WBX.">https://utdirect.utexas.edu/locso/trap.WBX.</a></p>
  <p>Please read the step-by-step instructions below on submitting your application: </p>
  <p>Login to Symplicity  ( <a href="https://law-utexas-csm.symplicity.com/students">https://law-utexas-csm.symplicity.com/students</a> )
  1.  Click on the [ Interview Programs ] tab on the top navigation bar. 
  2.  Click on the [ Employers/Applications ] tab. 
  3.  Filter the employer list by selecting [ 2017 Boston Job Fair Walk-Around] or [2017 New York Job Fair ] from the [ Session ] drop-down menu. Click [ Search ].  The resulting list of employers contains only those that have requested your class year. These are the employers you are eligible to submit (apply) your resume to.  
  4.  Click the [ Review ] button from the list of employers. You will then be redirected to a review page. 
  5.  To apply, click the [ Apply ] button in the [ Bid Details ] box to the right of the screen. Pay close attention to this box. If a document type is listed here, it is a REQUIRED document for this specific employer. For example: If "cover letter" is in this box, and "none found" is to the right, you must return to the [ Documents ] section and upload a cover letter. 
  6.  Note: Your "default resume" will be included with each application. To submit a different resume (or any requested documents) from those uploaded in your [ Documents ] section, select the appropriate document from the drop-down in the [ Bid Details ] box.
  7.  Note:  UT Law Symplicity requires you to rank each employer for which you submit an application (bid).  You will notice a [ Bid ] drop-down box.  Because these fairs are 100% preselect, which means employers choose who they want to interview, the bid box is irrelevant.  You must still rank your bid, however.
  8.  Note:  The [ Preferred Location(s) ] box will appear on most applications.
  - If there is only one office, list this office.
  - If there is more than one office for the application, type in all offices of interest.</p>
  <p>Please make sure that you finalize your selections before the application submission deadline.
  </p><p>If you need an accommodation to participate in this event, please contact the event
                                          event sponsor or the Texas Law Special Events Office at <a href="mailto:specialevents@law.utexas.edu">specialevents@law.utexas.edu</a> no later than seven business days prior to the event.</p>
CATEGORIES:Interview Program

URL:http://law.utexas.edu/calendar/2017/06/20/31290/
CLASS:PUBLIC
STATUS:CONFIRMED
COMMENT:Please contact SooYeon Kim, Events Specialist at skim@law.utexas.edu
END:VEVENT
END:VCALENDAR