BEGIN:VCALENDAR
VERSION:2.0
PRODID:-//UNIVERSITY OF TEXAS SCHOOL OF LAW//NONSGML Events Calendar v1.0//EN
X-WR-TIMEZONE:America/Chicago
BEGIN:VTIMEZONE
TZID:US/Central
X-LIC-LOCATION:America/Chicago
BEGIN:DAYLIGHT
TZOFFSETFROM:-0600
TZOFFSETTO:-0500
TZNAME:CDT
DTSTART:19700308T020000
RRULE:FREQ=YEARLY;BYMONTH=3;BYDAY=2SU
END:DAYLIGHT
BEGIN:STANDARD
TZOFFSETFROM:-0500
TZOFFSETTO:-0600
TZNAME:CST
DTSTART:19701101T020000
RRULE:FREQ=YEARLY;BYMONTH=11;BYDAY=1SU
END:STANDARD
END:VTIMEZONE
BEGIN:VEVENT
DTSTART;TZID=US/Central:20170721T080000
DTEND;VALUE=DATE-TIME;TZID=US/Central:20170721T170000

DTSTAMP:20260420T053500Z
CREATED:20170120T161200Z
LAST-MODIFIED:20170120T161200Z
UID:20170721T080000-28387@law.utexas.edu
SUMMARY:Negotiation 101: Skills Development
DESCRIPTION:<p>We negotiate every day, whether in formal or informal situations. Learn the basics of a successful negotiation in this one-day, interactive course. You'll discover your personal negotiating style and how to recognize when it's working and when it's time to try something different.</p>
  <p>What You Will Learn</p>
  <p>Understand different types of individual negotiating styles
  Understand different approaches and applications of negotiation
  Understand the steps of an effective negotiation process
  Learn and practice essential negotiation skills</p>
  <p>Program Schedule</p>
  <p>Friday, July 21, 2017 – 8 a.m.- 5 p.m.</p>
  <p>Instructors</p>
  <p>Susan Schultz is the Program Director at the Center for Public Policy Dispute Resolution. She trains and presents at conferences on various collaborative processes, including consensus-building and negotiated rulemaking. Susan is a lecturer at the University of Texas School of Law where she teaches mediation, negotiation and public policy dispute resolution.</p>
  <p>Suzanne Schwartz serves as Environmental Program Director for the Center for Public Policy Dispute Resolution, where she focuses on building collaboration and resolving disputes in the environmental and natural resources field. She teaches dispute resolution at the UT Law School, including negotiation and environmental multiparty negotiation, and provides public training and education on dispute resolution and collaborative processes.</p>
  <p>Fees</p>
  <p>The fee, including materials and snacks, is $300. Employees of government and non-profit organizations will receive a reduced rate of $250. Parking is not included in the price of the course.</p>\n\nIf you need an accommodation to participate in this event, please contact the event sponsor or the Texas Law Special Events Office at specialevents@law.utexas.edu no later than seven business days prior to the event.
X-ALT-DESC;FMTTYPE=text/html:<p>We negotiate every day, whether in formal or informal situations. Learn the basics of a successful negotiation in this one-day, interactive course. You'll discover your personal negotiating style and how to recognize when it's working and when it's time to try something different.</p>
  <p>What You Will Learn</p>
  <p>Understand different types of individual negotiating styles
  Understand different approaches and applications of negotiation
  Understand the steps of an effective negotiation process
  Learn and practice essential negotiation skills</p>
  <p>Program Schedule</p>
  <p>Friday, July 21, 2017 – 8 a.m.- 5 p.m.</p>
  <p>Instructors</p>
  <p>Susan Schultz is the Program Director at the Center for Public Policy Dispute Resolution. She trains and presents at conferences on various collaborative processes, including consensus-building and negotiated rulemaking. Susan is a lecturer at the University of Texas School of Law where she teaches mediation, negotiation and public policy dispute resolution.</p>
  <p>Suzanne Schwartz serves as Environmental Program Director for the Center for Public Policy Dispute Resolution, where she focuses on building collaboration and resolving disputes in the environmental and natural resources field. She teaches dispute resolution at the UT Law School, including negotiation and environmental multiparty negotiation, and provides public training and education on dispute resolution and collaborative processes.</p>
  <p>Fees</p>
  <p>The fee, including materials and snacks, is $300. Employees of government and non-profit organizations will receive a reduced rate of $250. Parking is not included in the price of the course.</p><p>If you need an accommodation to participate in this event, please contact the event
                                          event sponsor or the Texas Law Special Events Office at <a href="mailto:specialevents@law.utexas.edu">specialevents@law.utexas.edu</a> no later than seven business days prior to the event.</p>
CATEGORIES:Workshop / Training Program
LOCATION:
URL:http://law.utexas.edu/calendar/2017/07/21/28387/
CLASS:PUBLIC
STATUS:CONFIRMED

END:VEVENT
END:VCALENDAR