BEGIN:VCALENDAR
VERSION:2.0
PRODID:-//UNIVERSITY OF TEXAS SCHOOL OF LAW//NONSGML Events Calendar v1.0//EN
X-WR-TIMEZONE:America/Chicago
BEGIN:VTIMEZONE
TZID:US/Central
X-LIC-LOCATION:America/Chicago
BEGIN:DAYLIGHT
TZOFFSETFROM:-0600
TZOFFSETTO:-0500
TZNAME:CDT
DTSTART:19700308T020000
RRULE:FREQ=YEARLY;BYMONTH=3;BYDAY=2SU
END:DAYLIGHT
BEGIN:STANDARD
TZOFFSETFROM:-0500
TZOFFSETTO:-0600
TZNAME:CST
DTSTART:19701101T020000
RRULE:FREQ=YEARLY;BYMONTH=11;BYDAY=1SU
END:STANDARD
END:VTIMEZONE
BEGIN:VEVENT
DTSTART;TZID=US/Central:20170726T183000
DTEND;VALUE=DATE-TIME;TZID=US/Central:20170726T200000

DTSTAMP:20260420T053800Z
CREATED:20170426T153900Z
LAST-MODIFIED:20170524T155100Z
UID:20170726T183000-30766@law.utexas.edu
SUMMARY:New York Summer Student/Alumni Reception
DESCRIPTION:<p>Reception </p>
  <p>Cravath Swaine &amp; Moore LLP
  825 8th Ave
  New York, NY 10019</p>
  <p>6:30-8:00 p.m. ET</p>\n\nIf you need an accommodation to participate in this event, please contact the event sponsor or the Texas Law Special Events Office at specialevents@law.utexas.edu no later than seven business days prior to the event.
X-ALT-DESC;FMTTYPE=text/html:<p>Reception </p>
  <p>Cravath Swaine &amp; Moore LLP
  825 8th Ave
  New York, NY 10019</p>
  <p>6:30-8:00 p.m. ET</p><p>If you need an accommodation to participate in this event, please contact the event
                                          event sponsor or the Texas Law Special Events Office at <a href="mailto:specialevents@law.utexas.edu">specialevents@law.utexas.edu</a> no later than seven business days prior to the event.</p>
CATEGORIES:Reception

URL:http://law.utexas.edu/calendar/2017/07/26/30766/
CLASS:PUBLIC
STATUS:CONFIRMED

END:VEVENT
END:VCALENDAR