BEGIN:VCALENDAR
VERSION:2.0
PRODID:-//UNIVERSITY OF TEXAS SCHOOL OF LAW//NONSGML Events Calendar v1.0//EN
X-WR-TIMEZONE:America/Chicago
BEGIN:VTIMEZONE
TZID:US/Central
X-LIC-LOCATION:America/Chicago
BEGIN:DAYLIGHT
TZOFFSETFROM:-0600
TZOFFSETTO:-0500
TZNAME:CDT
DTSTART:19700308T020000
RRULE:FREQ=YEARLY;BYMONTH=3;BYDAY=2SU
END:DAYLIGHT
BEGIN:STANDARD
TZOFFSETFROM:-0500
TZOFFSETTO:-0600
TZNAME:CST
DTSTART:19701101T020000
RRULE:FREQ=YEARLY;BYMONTH=11;BYDAY=1SU
END:STANDARD
END:VTIMEZONE
BEGIN:VEVENT
DTSTART;TZID=US/Central:20170826T090000
DTEND;VALUE=DATE-TIME;TZID=US/Central:20170826T140000

DTSTAMP:20260420T055400Z
CREATED:20170818T170200Z
LAST-MODIFIED:20170822T142400Z
UID:20170826T090000-32624@law.utexas.edu
SUMMARY:Texas Law Review Orientation
DESCRIPTION:<p>We will be having breakfast and lunch in the Jamail pavilion. We will have food brought in. We may have speakers while we eat. The event is for around 70 people. It will be the New Members and Editorial Board of the Texas Law Review. </p>\n\nIf you need an accommodation to participate in this event, please contact the event sponsor or the Texas Law Special Events Office at specialevents@law.utexas.edu no later than seven business days prior to the event.
X-ALT-DESC;FMTTYPE=text/html:<p>We will be having breakfast and lunch in the Jamail pavilion. We will have food brought in. We may have speakers while we eat. The event is for around 70 people. It will be the New Members and Editorial Board of the Texas Law Review. </p><p>If you need an accommodation to participate in this event, please contact the event
                                          event sponsor or the Texas Law Special Events Office at <a href="mailto:specialevents@law.utexas.edu">specialevents@law.utexas.edu</a> no later than seven business days prior to the event.</p>
CATEGORIES:Breakfast
LOCATION:CCJ 2.300 - Jamail Pavilion
URL:http://law.utexas.edu/calendar/2017/08/26/32624/
CLASS:PUBLIC
STATUS:CONFIRMED

END:VEVENT
END:VCALENDAR