BEGIN:VCALENDAR
VERSION:2.0
PRODID:-//UNIVERSITY OF TEXAS SCHOOL OF LAW//NONSGML Events Calendar v1.0//EN
X-WR-TIMEZONE:America/Chicago
BEGIN:VTIMEZONE
TZID:US/Central
X-LIC-LOCATION:America/Chicago
BEGIN:DAYLIGHT
TZOFFSETFROM:-0600
TZOFFSETTO:-0500
TZNAME:CDT
DTSTART:19700308T020000
RRULE:FREQ=YEARLY;BYMONTH=3;BYDAY=2SU
END:DAYLIGHT
BEGIN:STANDARD
TZOFFSETFROM:-0500
TZOFFSETTO:-0600
TZNAME:CST
DTSTART:19701101T020000
RRULE:FREQ=YEARLY;BYMONTH=11;BYDAY=1SU
END:STANDARD
END:VTIMEZONE
BEGIN:VEVENT
DTSTART;TZID=US/Central:20170831T100000
DTEND;VALUE=DATE-TIME;TZID=US/Central:20170831T160000

DTSTAMP:20260420T042800Z
CREATED:20170828T211400Z
LAST-MODIFIED:20170830T203300Z
UID:20170831T100000-32867@law.utexas.edu
SUMMARY:Texas Law Red Cross Donation Drive
DESCRIPTION:<p>The Student Affairs Office and the Student Bar Association invite you to stop by the Susman Godfrey Atrium on Thurs, Aug 31st (10-4) or Friday, Sept 1st (10-2) to donate to the Red Cross in support of those affected by the flooding in Houston.  Cash and credit card donations will be accepted.  Unfortunately, we will not be accepting food or clothing donations, but we will have information available on where you can give those items.</p>\n\nIf you need an accommodation to participate in this event, please contact the event sponsor or the Texas Law Special Events Office at specialevents@law.utexas.edu no later than seven business days prior to the event.
X-ALT-DESC;FMTTYPE=text/html:<p>The Student Affairs Office and the Student Bar Association invite you to stop by the Susman Godfrey Atrium on Thurs, Aug 31st (10-4) or Friday, Sept 1st (10-2) to donate to the Red Cross in support of those affected by the flooding in Houston.  Cash and credit card donations will be accepted.  Unfortunately, we will not be accepting food or clothing donations, but we will have information available on where you can give those items.</p><p>If you need an accommodation to participate in this event, please contact the event
                                          event sponsor or the Texas Law Special Events Office at <a href="mailto:specialevents@law.utexas.edu">specialevents@law.utexas.edu</a> no later than seven business days prior to the event.</p>
CATEGORIES:Other
LOCATION:TNH 2.100 - Susman Godfrey Atrium
URL:http://law.utexas.edu/calendar/2017/08/31/32867/
CLASS:PUBLIC
STATUS:CONFIRMED

END:VEVENT
END:VCALENDAR