BEGIN:VCALENDAR
VERSION:2.0
PRODID:-//UNIVERSITY OF TEXAS SCHOOL OF LAW//NONSGML Events Calendar v1.0//EN
X-WR-TIMEZONE:America/Chicago
BEGIN:VTIMEZONE
TZID:US/Central
X-LIC-LOCATION:America/Chicago
BEGIN:DAYLIGHT
TZOFFSETFROM:-0600
TZOFFSETTO:-0500
TZNAME:CDT
DTSTART:19700308T020000
RRULE:FREQ=YEARLY;BYMONTH=3;BYDAY=2SU
END:DAYLIGHT
BEGIN:STANDARD
TZOFFSETFROM:-0500
TZOFFSETTO:-0600
TZNAME:CST
DTSTART:19701101T020000
RRULE:FREQ=YEARLY;BYMONTH=11;BYDAY=1SU
END:STANDARD
END:VTIMEZONE
BEGIN:VEVENT
DTSTART;TZID=US/Central:20170919T114500
DTEND;VALUE=DATE-TIME;TZID=US/Central:20170919T124500

DTSTAMP:20260420T025500Z
CREATED:20170911T002200Z
LAST-MODIFIED:20170911T002200Z
UID:20170919T114500-33184@law.utexas.edu
SUMMARY:RJ 101
DESCRIPTION:<p>Have you ever wondered what “If/When/How” is all about? Well, wonder no more! Join us for an open and thought-provoking discussion of what reproductive justice is and why it matters at “RJ 101.” Amanda Williams is Executive Director of the Lilith Fund, a Texas-based abortion fund. She'll present about her work and the ongoing threat to women's reproductive rights in the state of Texas. Bring your questions, your ideas, and your appetite as there will be lunch for all in attendance.
  </p>\n\nIf you need an accommodation to participate in this event, please contact the event sponsor or the Texas Law Special Events Office at specialevents@law.utexas.edu no later than seven business days prior to the event.
X-ALT-DESC;FMTTYPE=text/html:<p>Have you ever wondered what “If/When/How” is all about? Well, wonder no more! Join us for an open and thought-provoking discussion of what reproductive justice is and why it matters at “RJ 101.” Amanda Williams is Executive Director of the Lilith Fund, a Texas-based abortion fund. She'll present about her work and the ongoing threat to women's reproductive rights in the state of Texas. Bring your questions, your ideas, and your appetite as there will be lunch for all in attendance.
  </p><p>If you need an accommodation to participate in this event, please contact the event
                                          event sponsor or the Texas Law Special Events Office at <a href="mailto:specialevents@law.utexas.edu">specialevents@law.utexas.edu</a> no later than seven business days prior to the event.</p>
CATEGORIES:Lunch
LOCATION:TNH 2.124 - Reaud Classroom
URL:http://law.utexas.edu/calendar/2017/09/19/33184/
CLASS:PUBLIC
STATUS:CONFIRMED
COMMENT:For more info, check out If/When/How's Facebook page event.
END:VEVENT
END:VCALENDAR