BEGIN:VCALENDAR
VERSION:2.0
PRODID:-//UNIVERSITY OF TEXAS SCHOOL OF LAW//NONSGML Events Calendar v1.0//EN
X-WR-TIMEZONE:America/Chicago
BEGIN:VTIMEZONE
TZID:US/Central
X-LIC-LOCATION:America/Chicago
BEGIN:DAYLIGHT
TZOFFSETFROM:-0600
TZOFFSETTO:-0500
TZNAME:CDT
DTSTART:19700308T020000
RRULE:FREQ=YEARLY;BYMONTH=3;BYDAY=2SU
END:DAYLIGHT
BEGIN:STANDARD
TZOFFSETFROM:-0500
TZOFFSETTO:-0600
TZNAME:CST
DTSTART:19701101T020000
RRULE:FREQ=YEARLY;BYMONTH=11;BYDAY=1SU
END:STANDARD
END:VTIMEZONE
BEGIN:VEVENT
DTSTART;TZID=US/Central:20170920T120000
DTEND;VALUE=DATE-TIME;TZID=US/Central:20170920T130000

DTSTAMP:20260420T053800Z
CREATED:20170915T134900Z
LAST-MODIFIED:20170915T134900Z
UID:20170920T120000-33324@law.utexas.edu
SUMMARY:Texas Venture Labs Info Session
DESCRIPTION:<p>WHY TAKE THE TVL PRACTICUM?</p>
  <p>Learn what it takes to get investor ready
  See the challenges startups face firsthand
  Apply business principles in real time
  Network with the startup community
  Work with students across disciplines to solve multi-faceted problems
  </p>\n\nIf you need an accommodation to participate in this event, please contact the event sponsor or the Texas Law Special Events Office at specialevents@law.utexas.edu no later than seven business days prior to the event.
X-ALT-DESC;FMTTYPE=text/html:<p>WHY TAKE THE TVL PRACTICUM?</p>
  <p>Learn what it takes to get investor ready
  See the challenges startups face firsthand
  Apply business principles in real time
  Network with the startup community
  Work with students across disciplines to solve multi-faceted problems
  </p><p>If you need an accommodation to participate in this event, please contact the event
                                          event sponsor or the Texas Law Special Events Office at <a href="mailto:specialevents@law.utexas.edu">specialevents@law.utexas.edu</a> no later than seven business days prior to the event.</p>
CATEGORIES:Other
LOCATION:TNH 2.137 - Gayle Classroom
URL:http://law.utexas.edu/calendar/2017/09/20/33324/
CLASS:PUBLIC
STATUS:CONFIRMED

END:VEVENT
END:VCALENDAR