BEGIN:VCALENDAR
VERSION:2.0
PRODID:-//UNIVERSITY OF TEXAS SCHOOL OF LAW//NONSGML Events Calendar v1.0//EN
X-WR-TIMEZONE:America/Chicago
BEGIN:VTIMEZONE
TZID:US/Central
X-LIC-LOCATION:America/Chicago
BEGIN:DAYLIGHT
TZOFFSETFROM:-0600
TZOFFSETTO:-0500
TZNAME:CDT
DTSTART:19700308T020000
RRULE:FREQ=YEARLY;BYMONTH=3;BYDAY=2SU
END:DAYLIGHT
BEGIN:STANDARD
TZOFFSETFROM:-0500
TZOFFSETTO:-0600
TZNAME:CST
DTSTART:19701101T020000
RRULE:FREQ=YEARLY;BYMONTH=11;BYDAY=1SU
END:STANDARD
END:VTIMEZONE
BEGIN:VEVENT
DTSTART;TZID=US/Central:20170921T114500
DTEND;VALUE=DATE-TIME;TZID=US/Central:20170921T130000

DTSTAMP:20260420T040500Z
CREATED:20170919T034000Z
LAST-MODIFIED:20170919T034000Z
UID:20170921T114500-33373@law.utexas.edu
SUMMARY:Debate: Judicial Engagement vs. Judicial
DESCRIPTION:<p>The Texas Federalist Society presents an debate about the proper role for judges in our constitutional order. Sheldon Gilbert from the Institute for Justice will defend judicial engagement and Brantley Starr from the Texas Attorney General's Office will defend judicial restraint.</p>
  <p>Chick-fil-A will be provided!</p>\n\nIf you need an accommodation to participate in this event, please contact the event sponsor or the Texas Law Special Events Office at specialevents@law.utexas.edu no later than seven business days prior to the event.
X-ALT-DESC;FMTTYPE=text/html:<p>The Texas Federalist Society presents an debate about the proper role for judges in our constitutional order. Sheldon Gilbert from the Institute for Justice will defend judicial engagement and Brantley Starr from the Texas Attorney General's Office will defend judicial restraint.</p>
  <p>Chick-fil-A will be provided!</p><p>If you need an accommodation to participate in this event, please contact the event
                                          event sponsor or the Texas Law Special Events Office at <a href="mailto:specialevents@law.utexas.edu">specialevents@law.utexas.edu</a> no later than seven business days prior to the event.</p>
CATEGORIES:Lunch
LOCATION:TNH 2.138 - Blanton Classroom
URL:http://law.utexas.edu/calendar/2017/09/21/33373/
CLASS:PUBLIC
STATUS:CONFIRMED

END:VEVENT
END:VCALENDAR