BEGIN:VCALENDAR
VERSION:2.0
PRODID:-//UNIVERSITY OF TEXAS SCHOOL OF LAW//NONSGML Events Calendar v1.0//EN
X-WR-TIMEZONE:America/Chicago
BEGIN:VTIMEZONE
TZID:US/Central
X-LIC-LOCATION:America/Chicago
BEGIN:DAYLIGHT
TZOFFSETFROM:-0600
TZOFFSETTO:-0500
TZNAME:CDT
DTSTART:19700308T020000
RRULE:FREQ=YEARLY;BYMONTH=3;BYDAY=2SU
END:DAYLIGHT
BEGIN:STANDARD
TZOFFSETFROM:-0500
TZOFFSETTO:-0600
TZNAME:CST
DTSTART:19701101T020000
RRULE:FREQ=YEARLY;BYMONTH=11;BYDAY=1SU
END:STANDARD
END:VTIMEZONE
BEGIN:VEVENT
DTSTART;TZID=US/Central:20170926T114500
DTEND;VALUE=DATE-TIME;TZID=US/Central:20170926T124500

DTSTAMP:20260420T025500Z
CREATED:20170822T141600Z
LAST-MODIFIED:20170925T221800Z
UID:20170926T114500-32684@law.utexas.edu
SUMMARY:Postgraduate Public Interest Fellowships
DESCRIPTION:<p>This program is for all class years: 1Ls trying to figure out what postgraduate public interest fellowships are, 2Ls navigating the summer employer and potential host organization search and 3Ls committed to applying for fellowships post judicial clerkships. Current and former fellows will address how you should be preparing now to position yourself as a viable candidate for these highly competitive fellowships. Panelists include Meredith Parekh ’11, <a href="https://www.disabilityrightstx.org/">Disability Rights Texas</a>; Karly Jo Dixon ’16, <a href="http://www.fairdefense.org/">Texas Fair Defense Project</a>; Marissa Latta, 3L; and Mary Crouter, <a href="https://law.utexas.edu/publicinterest/">William Wayne Justice Center for Public Interest Law</a>.  Moderated by Lawson Konvalinka, Career Services Office.</p>
  <p>Sponsored by the Career Services Office and the William Wayne Justice Center for Public Interest Law.</p>
  <p>Lunch will be served. RSVP by Monday, September 25, on <a href="https://law-utexas-csm.symplicity.com/students">Symplicity</a> by selecting the “Events” tab.</p>\n\nIf you need an accommodation to participate in this event, please contact the event sponsor or the Texas Law Special Events Office at specialevents@law.utexas.edu no later than seven business days prior to the event.
X-ALT-DESC;FMTTYPE=text/html:<p>This program is for all class years: 1Ls trying to figure out what postgraduate public interest fellowships are, 2Ls navigating the summer employer and potential host organization search and 3Ls committed to applying for fellowships post judicial clerkships. Current and former fellows will address how you should be preparing now to position yourself as a viable candidate for these highly competitive fellowships. Panelists include Meredith Parekh ’11, <a href="https://www.disabilityrightstx.org/">Disability Rights Texas</a>; Karly Jo Dixon ’16, <a href="http://www.fairdefense.org/">Texas Fair Defense Project</a>; Marissa Latta, 3L; and Mary Crouter, <a href="https://law.utexas.edu/publicinterest/">William Wayne Justice Center for Public Interest Law</a>.  Moderated by Lawson Konvalinka, Career Services Office.</p>
  <p>Sponsored by the Career Services Office and the William Wayne Justice Center for Public Interest Law.</p>
  <p>Lunch will be served. RSVP by Monday, September 25, on <a href="https://law-utexas-csm.symplicity.com/students">Symplicity</a> by selecting the “Events” tab.</p><p>If you need an accommodation to participate in this event, please contact the event
                                          event sponsor or the Texas Law Special Events Office at <a href="mailto:specialevents@law.utexas.edu">specialevents@law.utexas.edu</a> no later than seven business days prior to the event.</p>
CATEGORIES:Workshop / Training Program
LOCATION:CCJ 2.306 - Eidman Courtroom
URL:http://law.utexas.edu/calendar/2017/09/26/32684/
CLASS:PUBLIC
STATUS:CONFIRMED
COMMENT:Please contact Lawson Konvalinka, Career Counselor, at 512-232-1154 or <a href="mailto:lkonvalinka@law.utexas.edu">lkonvalinka@law.utexas.edu</a>.
END:VEVENT
END:VCALENDAR