BEGIN:VCALENDAR
VERSION:2.0
PRODID:-//UNIVERSITY OF TEXAS SCHOOL OF LAW//NONSGML Events Calendar v1.0//EN
X-WR-TIMEZONE:America/Chicago
BEGIN:VTIMEZONE
TZID:US/Central
X-LIC-LOCATION:America/Chicago
BEGIN:DAYLIGHT
TZOFFSETFROM:-0600
TZOFFSETTO:-0500
TZNAME:CDT
DTSTART:19700308T020000
RRULE:FREQ=YEARLY;BYMONTH=3;BYDAY=2SU
END:DAYLIGHT
BEGIN:STANDARD
TZOFFSETFROM:-0500
TZOFFSETTO:-0600
TZNAME:CST
DTSTART:19701101T020000
RRULE:FREQ=YEARLY;BYMONTH=11;BYDAY=1SU
END:STANDARD
END:VTIMEZONE
BEGIN:VEVENT
DTSTART;TZID=US/Central:20170926T114500
DTEND;VALUE=DATE-TIME;TZID=US/Central:20170926T130000

DTSTAMP:20260420T072700Z
CREATED:20170919T174300Z
LAST-MODIFIED:20170921T184800Z
UID:20170926T114500-33424@law.utexas.edu
SUMMARY:Voting Rights in Texas
DESCRIPTION:<p>Celebrate National Voter Registration Day! Learn about election law and get registered to vote. Speakers Joseph Fishkin (UT Law) and Beth Stevens (Texas Civil Rights Project will speak about voting rights.</p>\n\nIf you need an accommodation to participate in this event, please contact the event sponsor or the Texas Law Special Events Office at specialevents@law.utexas.edu no later than seven business days prior to the event.
X-ALT-DESC;FMTTYPE=text/html:<p>Celebrate National Voter Registration Day! Learn about election law and get registered to vote. Speakers Joseph Fishkin (UT Law) and Beth Stevens (Texas Civil Rights Project will speak about voting rights.</p><p>If you need an accommodation to participate in this event, please contact the event
                                          event sponsor or the Texas Law Special Events Office at <a href="mailto:specialevents@law.utexas.edu">specialevents@law.utexas.edu</a> no later than seven business days prior to the event.</p>

LOCATION:TNH 2.123 - Beck Classroom
URL:http://law.utexas.edu/calendar/2017/09/26/33424/
CLASS:PUBLIC
STATUS:CONFIRMED

END:VEVENT
END:VCALENDAR