BEGIN:VCALENDAR
VERSION:2.0
PRODID:-//UNIVERSITY OF TEXAS SCHOOL OF LAW//NONSGML Events Calendar v1.0//EN
X-WR-TIMEZONE:America/Chicago
BEGIN:VTIMEZONE
TZID:US/Central
X-LIC-LOCATION:America/Chicago
BEGIN:DAYLIGHT
TZOFFSETFROM:-0600
TZOFFSETTO:-0500
TZNAME:CDT
DTSTART:19700308T020000
RRULE:FREQ=YEARLY;BYMONTH=3;BYDAY=2SU
END:DAYLIGHT
BEGIN:STANDARD
TZOFFSETFROM:-0500
TZOFFSETTO:-0600
TZNAME:CST
DTSTART:19701101T020000
RRULE:FREQ=YEARLY;BYMONTH=11;BYDAY=1SU
END:STANDARD
END:VTIMEZONE
BEGIN:VEVENT
DTSTART;TZID=US/Central:20170927T163000
DTEND;VALUE=DATE-TIME;TZID=US/Central:20170927T173000

DTSTAMP:20260420T025400Z
CREATED:20170725T195800Z
LAST-MODIFIED:20170911T161900Z
UID:20170927T163000-32044@law.utexas.edu
SUMMARY:Massey Teaching Prize Reception
DESCRIPTION:<p>Massey Teaching Excellence Award Reception honoring Thomas O. McGarity 
  Wednesday, September 27, 2017
  4:30 - 5:30 p.m.</p>
  <p>The University of Texas School of Law 
  Sheffield-Massey Room
  Austin, TX </p>\n\nIf you need an accommodation to participate in this event, please contact the event sponsor or the Texas Law Special Events Office at specialevents@law.utexas.edu no later than seven business days prior to the event.
X-ALT-DESC;FMTTYPE=text/html:<p>Massey Teaching Excellence Award Reception honoring Thomas O. McGarity 
  Wednesday, September 27, 2017
  4:30 - 5:30 p.m.</p>
  <p>The University of Texas School of Law 
  Sheffield-Massey Room
  Austin, TX </p><p>If you need an accommodation to participate in this event, please contact the event
                                          event sponsor or the Texas Law Special Events Office at <a href="mailto:specialevents@law.utexas.edu">specialevents@law.utexas.edu</a> no later than seven business days prior to the event.</p>
CATEGORIES:Reception
LOCATION:TNH 2.111 - Sheffield-Massey Room
URL:http://law.utexas.edu/calendar/2017/09/27/32044/
CLASS:PUBLIC
STATUS:CONFIRMED
COMMENT:Contact McKenzie at events@law.utexas.edu or 512-232-4604
END:VEVENT
END:VCALENDAR