BEGIN:VCALENDAR
VERSION:2.0
PRODID:-//UNIVERSITY OF TEXAS SCHOOL OF LAW//NONSGML Events Calendar v1.0//EN
X-WR-TIMEZONE:America/Chicago
BEGIN:VTIMEZONE
TZID:US/Central
X-LIC-LOCATION:America/Chicago
BEGIN:DAYLIGHT
TZOFFSETFROM:-0600
TZOFFSETTO:-0500
TZNAME:CDT
DTSTART:19700308T020000
RRULE:FREQ=YEARLY;BYMONTH=3;BYDAY=2SU
END:DAYLIGHT
BEGIN:STANDARD
TZOFFSETFROM:-0500
TZOFFSETTO:-0600
TZNAME:CST
DTSTART:19701101T020000
RRULE:FREQ=YEARLY;BYMONTH=11;BYDAY=1SU
END:STANDARD
END:VTIMEZONE
BEGIN:VEVENT
DTSTART;TZID=US/Central:20170927T114500
DTEND;VALUE=DATE-TIME;TZID=US/Central:20170927T124500

DTSTAMP:20260420T025400Z
CREATED:20170920T192800Z
LAST-MODIFIED:20170925T221900Z
UID:20170927T114500-33444@law.utexas.edu
SUMMARY:U.S. D.O.L. Honors Program Info Session
DESCRIPTION:<p>2Ls and 3Ls: The Honors Program at the Office of the Solicitor provides challenging professional opportunities for outstanding law school graduates. Honors Program attorneys work in the Solicitor’s Office either at the department’s headquarters in Washington, D.C., or in one of seven regional offices, gaining exposure to a broad range of substantive legal work in one of the government’s preeminent legal offices. Please join us for lunch and for more information on the Honors Program!</p>
  <p>Lunch will be served. RSVP by Tuesday, September 26, on <a href="https://law-utexas-csm.symplicity.com/students/">Symplicity</a> by selecting the "Events" tab.</p>\n\nIf you need an accommodation to participate in this event, please contact the event sponsor or the Texas Law Special Events Office at specialevents@law.utexas.edu no later than seven business days prior to the event.
X-ALT-DESC;FMTTYPE=text/html:<p>2Ls and 3Ls: The Honors Program at the Office of the Solicitor provides challenging professional opportunities for outstanding law school graduates. Honors Program attorneys work in the Solicitor’s Office either at the department’s headquarters in Washington, D.C., or in one of seven regional offices, gaining exposure to a broad range of substantive legal work in one of the government’s preeminent legal offices. Please join us for lunch and for more information on the Honors Program!</p>
  <p>Lunch will be served. RSVP by Tuesday, September 26, on <a href="https://law-utexas-csm.symplicity.com/students/">Symplicity</a> by selecting the "Events" tab.</p><p>If you need an accommodation to participate in this event, please contact the event
                                          event sponsor or the Texas Law Special Events Office at <a href="mailto:specialevents@law.utexas.edu">specialevents@law.utexas.edu</a> no later than seven business days prior to the event.</p>
CATEGORIES:Workshop / Training Program
LOCATION:Career Services Interview Suite (TNH 3.122)
URL:http://law.utexas.edu/calendar/2017/09/27/33444/
CLASS:PUBLIC
STATUS:CONFIRMED
COMMENT:Please contact Kaycee Crisp, Government Career Counselor, at <a href="mailto:kcrisp@law.utexas.edu">kcrisp@law.utexas.edu</a>.
END:VEVENT
END:VCALENDAR