BEGIN:VCALENDAR
VERSION:2.0
PRODID:-//UNIVERSITY OF TEXAS SCHOOL OF LAW//NONSGML Events Calendar v1.0//EN
X-WR-TIMEZONE:America/Chicago
BEGIN:VTIMEZONE
TZID:US/Central
X-LIC-LOCATION:America/Chicago
BEGIN:DAYLIGHT
TZOFFSETFROM:-0600
TZOFFSETTO:-0500
TZNAME:CDT
DTSTART:19700308T020000
RRULE:FREQ=YEARLY;BYMONTH=3;BYDAY=2SU
END:DAYLIGHT
BEGIN:STANDARD
TZOFFSETFROM:-0500
TZOFFSETTO:-0600
TZNAME:CST
DTSTART:19701101T020000
RRULE:FREQ=YEARLY;BYMONTH=11;BYDAY=1SU
END:STANDARD
END:VTIMEZONE
BEGIN:VEVENT
DTSTART;TZID=US/Central:20170928T114500
DTEND;VALUE=DATE-TIME;TZID=US/Central:20170928T130000

DTSTAMP:20260420T025500Z
CREATED:20170721T130700Z
LAST-MODIFIED:20170921T230300Z
UID:20170928T114500-31967@law.utexas.edu
SUMMARY:How to Apply to BigLaw
DESCRIPTION:<p>1Ls: Learn about the recruitment and application process for summer opportunities at large law firms (aka BigLaw). David Montoya, Assistant Dean for Career Services, will provide an overview of BigLaw, share strategies, and offer advice for obtaining clerkship positions, and Sandra Puga, OCI Coordinator, will give a brief presentation on Symplicity. 
   </p>
  <p>Lunch will be served. RSVP by Wednesday, September 27, on <a href="https://law-utexas-csm.symplicity.com/students/"> Symplicity</a> by selecting the "Events" tab.</p>\n\nIf you need an accommodation to participate in this event, please contact the event sponsor or the Texas Law Special Events Office at specialevents@law.utexas.edu no later than seven business days prior to the event.
X-ALT-DESC;FMTTYPE=text/html:<p>1Ls: Learn about the recruitment and application process for summer opportunities at large law firms (aka BigLaw). David Montoya, Assistant Dean for Career Services, will provide an overview of BigLaw, share strategies, and offer advice for obtaining clerkship positions, and Sandra Puga, OCI Coordinator, will give a brief presentation on Symplicity. 
   </p>
  <p>Lunch will be served. RSVP by Wednesday, September 27, on <a href="https://law-utexas-csm.symplicity.com/students/"> Symplicity</a> by selecting the "Events" tab.</p><p>If you need an accommodation to participate in this event, please contact the event
                                          event sponsor or the Texas Law Special Events Office at <a href="mailto:specialevents@law.utexas.edu">specialevents@law.utexas.edu</a> no later than seven business days prior to the event.</p>
CATEGORIES:Workshop / Training Program
LOCATION:TNH 2.114 - Francis Auditorium
URL:http://law.utexas.edu/calendar/2017/09/28/31967/
CLASS:PUBLIC
STATUS:CONFIRMED
COMMENT:Please contact Denyse Demel, Career Counselor, at 512-232-1162 or <a href="mailto:ddemel@law.utexas.edu">ddemel@law.utexas.edu</a>.
END:VEVENT
END:VCALENDAR