BEGIN:VCALENDAR
VERSION:2.0
PRODID:-//UNIVERSITY OF TEXAS SCHOOL OF LAW//NONSGML Events Calendar v1.0//EN
X-WR-TIMEZONE:America/Chicago
BEGIN:VTIMEZONE
TZID:US/Central
X-LIC-LOCATION:America/Chicago
BEGIN:DAYLIGHT
TZOFFSETFROM:-0600
TZOFFSETTO:-0500
TZNAME:CDT
DTSTART:19700308T020000
RRULE:FREQ=YEARLY;BYMONTH=3;BYDAY=2SU
END:DAYLIGHT
BEGIN:STANDARD
TZOFFSETFROM:-0500
TZOFFSETTO:-0600
TZNAME:CST
DTSTART:19701101T020000
RRULE:FREQ=YEARLY;BYMONTH=11;BYDAY=1SU
END:STANDARD
END:VTIMEZONE
BEGIN:VEVENT
DTSTART;TZID=US/Central:20170928T080000
DTEND;VALUE=DATE-TIME;TZID=US/Central:20170928T150000

DTSTAMP:20260420T042800Z
CREATED:20170810T135500Z
LAST-MODIFIED:20170922T155200Z
UID:20170928T080000-32444@law.utexas.edu
SUMMARY:Texas Pre-Law Advisors Conference
DESCRIPTION:<p>The Admissions Office invites pre-law advisors from colleges and universities throughout Texas to learn more about Texas Law.</p>\n\nIf you need an accommodation to participate in this event, please contact the event sponsor or the Texas Law Special Events Office at specialevents@law.utexas.edu no later than seven business days prior to the event.
X-ALT-DESC;FMTTYPE=text/html:<p>The Admissions Office invites pre-law advisors from colleges and universities throughout Texas to learn more about Texas Law.</p><p>If you need an accommodation to participate in this event, please contact the event
                                          event sponsor or the Texas Law Special Events Office at <a href="mailto:specialevents@law.utexas.edu">specialevents@law.utexas.edu</a> no later than seven business days prior to the event.</p>
CATEGORIES:Workshop / Training Program
LOCATION:CCJ 2.310 - Jury Room
URL:http://law.utexas.edu/calendar/2017/09/28/32444/
CLASS:PUBLIC
STATUS:CONFIRMED

END:VEVENT
END:VCALENDAR