BEGIN:VCALENDAR
VERSION:2.0
PRODID:-//UNIVERSITY OF TEXAS SCHOOL OF LAW//NONSGML Events Calendar v1.0//EN
X-WR-TIMEZONE:America/Chicago
BEGIN:VTIMEZONE
TZID:US/Central
X-LIC-LOCATION:America/Chicago
BEGIN:DAYLIGHT
TZOFFSETFROM:-0600
TZOFFSETTO:-0500
TZNAME:CDT
DTSTART:19700308T020000
RRULE:FREQ=YEARLY;BYMONTH=3;BYDAY=2SU
END:DAYLIGHT
BEGIN:STANDARD
TZOFFSETFROM:-0500
TZOFFSETTO:-0600
TZNAME:CST
DTSTART:19701101T020000
RRULE:FREQ=YEARLY;BYMONTH=11;BYDAY=1SU
END:STANDARD
END:VTIMEZONE
BEGIN:VEVENT
DTSTART;TZID=US/Central:20170929T100000
DTEND;VALUE=DATE-TIME;TZID=US/Central:20170929T150000

DTSTAMP:20260420T042800Z
CREATED:20170915T021700Z
LAST-MODIFIED:20170919T183300Z
UID:20170929T100000-33304@law.utexas.edu
SUMMARY:Law and Technology Symposium
DESCRIPTION:<p>Come join us at the first annual JOLTT Law and Technology Symposium. Experts from a variety of technology and legal backgrounds will be on hand to discuss various topics and answer questions.</p>
  <p>Topics include: Cyborg Rights and the Third Party Doctrine, Autonomous Vehicles, Body Cameras and Police Surveillance, and Russian Hacking and Election Integrity.</p>
  <p>Please RSVP on Facebook or Eventbrite for Lunch! You can find a link on our website at joltx.com.</p>\n\nIf you need an accommodation to participate in this event, please contact the event sponsor or the Texas Law Special Events Office at specialevents@law.utexas.edu no later than seven business days prior to the event.
X-ALT-DESC;FMTTYPE=text/html:<p>Come join us at the first annual JOLTT Law and Technology Symposium. Experts from a variety of technology and legal backgrounds will be on hand to discuss various topics and answer questions.</p>
  <p>Topics include: Cyborg Rights and the Third Party Doctrine, Autonomous Vehicles, Body Cameras and Police Surveillance, and Russian Hacking and Election Integrity.</p>
  <p>Please RSVP on Facebook or Eventbrite for Lunch! You can find a link on our website at joltx.com.</p><p>If you need an accommodation to participate in this event, please contact the event
                                          event sponsor or the Texas Law Special Events Office at <a href="mailto:specialevents@law.utexas.edu">specialevents@law.utexas.edu</a> no later than seven business days prior to the event.</p>
CATEGORIES:Symposium
LOCATION:CCJ 2.306 - Eidman Courtroom
URL:http://law.utexas.edu/calendar/2017/09/29/33304/
CLASS:PUBLIC
STATUS:CONFIRMED

END:VEVENT
END:VCALENDAR