BEGIN:VCALENDAR
VERSION:2.0
PRODID:-//UNIVERSITY OF TEXAS SCHOOL OF LAW//NONSGML Events Calendar v1.0//EN
X-WR-TIMEZONE:America/Chicago
BEGIN:VTIMEZONE
TZID:US/Central
X-LIC-LOCATION:America/Chicago
BEGIN:DAYLIGHT
TZOFFSETFROM:-0600
TZOFFSETTO:-0500
TZNAME:CDT
DTSTART:19700308T020000
RRULE:FREQ=YEARLY;BYMONTH=3;BYDAY=2SU
END:DAYLIGHT
BEGIN:STANDARD
TZOFFSETFROM:-0500
TZOFFSETTO:-0600
TZNAME:CST
DTSTART:19701101T020000
RRULE:FREQ=YEARLY;BYMONTH=11;BYDAY=1SU
END:STANDARD
END:VTIMEZONE
BEGIN:VEVENT
DTSTART;TZID=US/Central:20171002T153000
DTEND;VALUE=DATE-TIME;TZID=US/Central:20171002T170000

DTSTAMP:20260420T025000Z
CREATED:20170912T140700Z
LAST-MODIFIED:20170918T143200Z
UID:20171002T153000-33244@law.utexas.edu
SUMMARY:First Monday: Capital Pun. in SCOTUS
DESCRIPTION:<p>"Capital Punishment in the U.S. Supreme Court, 2016 and 2017 terms" -- reviewing past and present death penalty cases on the Supreme Court's docket.</p>\n\nIf you need an accommodation to participate in this event, please contact the event sponsor or the Texas Law Special Events Office at specialevents@law.utexas.edu no later than seven business days prior to the event. Speakers: Jordan M. Steiker, Professor, University of Texas, Jim Marcus, Clinical Professor, University of Texas, Raoul D. Schonemann, Clinical Professor, University of Texas, Thea Jane Posel, Clinical Assistant Professor, University of Texas
X-ALT-DESC;FMTTYPE=text/html:<p>"Capital Punishment in the U.S. Supreme Court, 2016 and 2017 terms" -- reviewing past and present death penalty cases on the Supreme Court's docket.</p><p>If you need an accommodation to participate in this event, please contact the event
                                          event sponsor or the Texas Law Special Events Office at <a href="mailto:specialevents@law.utexas.edu">specialevents@law.utexas.edu</a> no later than seven business days prior to the event.</p> Speakers: Jordan M. Steiker, Professor, University of Texas, Jim Marcus, Clinical Professor, University of Texas, Raoul D. Schonemann, Clinical Professor, University of Texas, Thea Jane Posel, Clinical Assistant Professor, University of Texas

LOCATION:CCJ 2.306 - Eidman Courtroom
URL:http://law.utexas.edu/calendar/2017/10/02/33244/
CLASS:PUBLIC
STATUS:CONFIRMED

END:VEVENT
END:VCALENDAR