BEGIN:VCALENDAR
VERSION:2.0
PRODID:-//UNIVERSITY OF TEXAS SCHOOL OF LAW//NONSGML Events Calendar v1.0//EN
X-WR-TIMEZONE:America/Chicago
BEGIN:VTIMEZONE
TZID:US/Central
X-LIC-LOCATION:America/Chicago
BEGIN:DAYLIGHT
TZOFFSETFROM:-0600
TZOFFSETTO:-0500
TZNAME:CDT
DTSTART:19700308T020000
RRULE:FREQ=YEARLY;BYMONTH=3;BYDAY=2SU
END:DAYLIGHT
BEGIN:STANDARD
TZOFFSETFROM:-0500
TZOFFSETTO:-0600
TZNAME:CST
DTSTART:19701101T020000
RRULE:FREQ=YEARLY;BYMONTH=11;BYDAY=1SU
END:STANDARD
END:VTIMEZONE
BEGIN:VEVENT
DTSTART;TZID=US/Central:20171006T120000
DTEND;VALUE=DATE-TIME;TZID=US/Central:20171006T133000

DTSTAMP:20260420T001100Z
CREATED:20170918T163800Z
LAST-MODIFIED:20170925T142400Z
UID:20171006T120000-33404@law.utexas.edu
SUMMARY:Resilient and Equitable Communities
DESCRIPTION:<p>Now that the floodwaters have receded, the communities ravaged by Hurricane Harvey are beginning the long, hard road of rebuilding. Historically underserved populations—including low-income persons of color—face especially daunting challenges. What needs to be done to help the most vulnerable survivors rebuild their lives? How can we protect all residents from future flooding and exposure to other hazards? And what lessons have we learned from prior disasters to ensure that disaster recovery funds are spent more equitably and effectively?</p>
  <p>Join us for a conversation on these questions and more, as we discuss how to build resilient and equitable communities after Hurricane Harvey.</p>
  <p>Presented by:</p>
  <p>UT Opportunity Forum
  William Wayne Justice Center for Public Interest Law</p>\n\nIf you need an accommodation to participate in this event, please contact the event sponsor or the Texas Law Special Events Office at specialevents@law.utexas.edu no later than seven business days prior to the event.
X-ALT-DESC;FMTTYPE=text/html:<p>Now that the floodwaters have receded, the communities ravaged by Hurricane Harvey are beginning the long, hard road of rebuilding. Historically underserved populations—including low-income persons of color—face especially daunting challenges. What needs to be done to help the most vulnerable survivors rebuild their lives? How can we protect all residents from future flooding and exposure to other hazards? And what lessons have we learned from prior disasters to ensure that disaster recovery funds are spent more equitably and effectively?</p>
  <p>Join us for a conversation on these questions and more, as we discuss how to build resilient and equitable communities after Hurricane Harvey.</p>
  <p>Presented by:</p>
  <p>UT Opportunity Forum
  William Wayne Justice Center for Public Interest Law</p><p>If you need an accommodation to participate in this event, please contact the event
                                          event sponsor or the Texas Law Special Events Office at <a href="mailto:specialevents@law.utexas.edu">specialevents@law.utexas.edu</a> no later than seven business days prior to the event.</p>
CATEGORIES:Panel Discussion / Speaker Series
LOCATION:TNH 2.114 - Francis Auditorium
URL:http://law.utexas.edu/calendar/2017/10/06/33404/
CLASS:PUBLIC
STATUS:CONFIRMED

END:VEVENT
END:VCALENDAR