BEGIN:VCALENDAR
VERSION:2.0
PRODID:-//UNIVERSITY OF TEXAS SCHOOL OF LAW//NONSGML Events Calendar v1.0//EN
X-WR-TIMEZONE:America/Chicago
BEGIN:VTIMEZONE
TZID:US/Central
X-LIC-LOCATION:America/Chicago
BEGIN:DAYLIGHT
TZOFFSETFROM:-0600
TZOFFSETTO:-0500
TZNAME:CDT
DTSTART:19700308T020000
RRULE:FREQ=YEARLY;BYMONTH=3;BYDAY=2SU
END:DAYLIGHT
BEGIN:STANDARD
TZOFFSETFROM:-0500
TZOFFSETTO:-0600
TZNAME:CST
DTSTART:19701101T020000
RRULE:FREQ=YEARLY;BYMONTH=11;BYDAY=1SU
END:STANDARD
END:VTIMEZONE
BEGIN:VEVENT
DTSTART;TZID=US/Central:20171011T083000
DTEND;VALUE=DATE-TIME;TZID=US/Central:20171011T093000

DTSTAMP:20260420T041300Z
CREATED:20171006T182000Z
LAST-MODIFIED:20171006T182000Z
UID:20171011T083000-33925@law.utexas.edu
SUMMARY:WLC Female-Faculty Conversation
DESCRIPTION:<p>Women's Law Caucus members are invited to have breakfast and coffee with Professor Littwin to learn about her spring course, Secured Credit.</p>\n\nIf you need an accommodation to participate in this event, please contact the event sponsor or the Texas Law Special Events Office at specialevents@law.utexas.edu no later than seven business days prior to the event.
X-ALT-DESC;FMTTYPE=text/html:<p>Women's Law Caucus members are invited to have breakfast and coffee with Professor Littwin to learn about her spring course, Secured Credit.</p><p>If you need an accommodation to participate in this event, please contact the event
                                          event sponsor or the Texas Law Special Events Office at <a href="mailto:specialevents@law.utexas.edu">specialevents@law.utexas.edu</a> no later than seven business days prior to the event.</p>
CATEGORIES:Breakfast
LOCATION:CCJ 2.310 - Jury Room
URL:http://law.utexas.edu/calendar/2017/10/11/33925/
CLASS:PUBLIC
STATUS:CONFIRMED

END:VEVENT
END:VCALENDAR