BEGIN:VCALENDAR
VERSION:2.0
PRODID:-//UNIVERSITY OF TEXAS SCHOOL OF LAW//NONSGML Events Calendar v1.0//EN
X-WR-TIMEZONE:America/Chicago
BEGIN:VTIMEZONE
TZID:US/Central
X-LIC-LOCATION:America/Chicago
BEGIN:DAYLIGHT
TZOFFSETFROM:-0600
TZOFFSETTO:-0500
TZNAME:CDT
DTSTART:19700308T020000
RRULE:FREQ=YEARLY;BYMONTH=3;BYDAY=2SU
END:DAYLIGHT
BEGIN:STANDARD
TZOFFSETFROM:-0500
TZOFFSETTO:-0600
TZNAME:CST
DTSTART:19701101T020000
RRULE:FREQ=YEARLY;BYMONTH=11;BYDAY=1SU
END:STANDARD
END:VTIMEZONE
BEGIN:VEVENT
DTSTART;TZID=US/Central:20171012T114500
DTEND;VALUE=DATE-TIME;TZID=US/Central:20171012T124500

DTSTAMP:20260420T035900Z
CREATED:20170616T172100Z
LAST-MODIFIED:20170925T171900Z
UID:20171012T114500-31304@law.utexas.edu
SUMMARY:Judicial Internships: Great Jobs for the
DESCRIPTION:<p>Texas Law students will discuss their summer judicial internship experiences and how they secured their positions. Learn what judicial internships are, what courts have them, and how to apply.</p>
  <p>Summer judicial internships are open to all students, including 1Ls. There are hundreds of summer judicial internship opportunities available throughout the nation and early December is a good time to begin sending out your applications. Three hours of academic credit may be available through the Judicial Internship Program for summer internships with federal district, federal appellate, and state appellate judges. </p>
  <p> RSVP by Wednesday, October 11, on <a href="https://law-utexas-csm.symplicity.com/students/"> Symplicity</a> by selecting the "Events" tab.</p>\n\nIf you need an accommodation to participate in this event, please contact the event sponsor or the Texas Law Special Events Office at specialevents@law.utexas.edu no later than seven business days prior to the event.
X-ALT-DESC;FMTTYPE=text/html:<p>Texas Law students will discuss their summer judicial internship experiences and how they secured their positions. Learn what judicial internships are, what courts have them, and how to apply.</p>
  <p>Summer judicial internships are open to all students, including 1Ls. There are hundreds of summer judicial internship opportunities available throughout the nation and early December is a good time to begin sending out your applications. Three hours of academic credit may be available through the Judicial Internship Program for summer internships with federal district, federal appellate, and state appellate judges. </p>
  <p> RSVP by Wednesday, October 11, on <a href="https://law-utexas-csm.symplicity.com/students/"> Symplicity</a> by selecting the "Events" tab.</p><p>If you need an accommodation to participate in this event, please contact the event
                                          event sponsor or the Texas Law Special Events Office at <a href="mailto:specialevents@law.utexas.edu">specialevents@law.utexas.edu</a> no later than seven business days prior to the event.</p>
CATEGORIES:Workshop / Training Program
LOCATION:CCJ 2.306 - Eidman Courtroom
URL:http://law.utexas.edu/calendar/2017/10/12/31304/
CLASS:PUBLIC
STATUS:CONFIRMED
COMMENT:Ketan Kharod, Interim Career Counselor, at <a href="mailto:kkharod@law.utexas.edu">kkharod@law.utexas.edu</a>, or 512-232-1152.
END:VEVENT
END:VCALENDAR