BEGIN:VCALENDAR
VERSION:2.0
PRODID:-//UNIVERSITY OF TEXAS SCHOOL OF LAW//NONSGML Events Calendar v1.0//EN
X-WR-TIMEZONE:America/Chicago
BEGIN:VTIMEZONE
TZID:US/Central
X-LIC-LOCATION:America/Chicago
BEGIN:DAYLIGHT
TZOFFSETFROM:-0600
TZOFFSETTO:-0500
TZNAME:CDT
DTSTART:19700308T020000
RRULE:FREQ=YEARLY;BYMONTH=3;BYDAY=2SU
END:DAYLIGHT
BEGIN:STANDARD
TZOFFSETFROM:-0500
TZOFFSETTO:-0600
TZNAME:CST
DTSTART:19701101T020000
RRULE:FREQ=YEARLY;BYMONTH=11;BYDAY=1SU
END:STANDARD
END:VTIMEZONE
BEGIN:VEVENT
DTSTART;TZID=US/Central:20171012T114500
DTEND;VALUE=DATE-TIME;TZID=US/Central:20171012T130000

DTSTAMP:20260419T230700Z
CREATED:20171008T214700Z
LAST-MODIFIED:20171008T214700Z
UID:20171012T114500-33944@law.utexas.edu
SUMMARY:The Fight Against SB4
DESCRIPTION:<p>Join Texas Law ACS &amp; CHLSA for a lunch event on Thurs, Oct 12 from 11:45am-1pm about the fight against SB4. SB4 is a sweeping, anti-immigrant law passed by the Texas legislature in 2017. Edgar Saldivar from the ACLU of Texas will present on the fight against SB4, including the current court case and state-wide advocacy efforts.</p>\n\nIf you need an accommodation to participate in this event, please contact the event sponsor or the Texas Law Special Events Office at specialevents@law.utexas.edu no later than seven business days prior to the event.
X-ALT-DESC;FMTTYPE=text/html:<p>Join Texas Law ACS &amp; CHLSA for a lunch event on Thurs, Oct 12 from 11:45am-1pm about the fight against SB4. SB4 is a sweeping, anti-immigrant law passed by the Texas legislature in 2017. Edgar Saldivar from the ACLU of Texas will present on the fight against SB4, including the current court case and state-wide advocacy efforts.</p><p>If you need an accommodation to participate in this event, please contact the event
                                          event sponsor or the Texas Law Special Events Office at <a href="mailto:specialevents@law.utexas.edu">specialevents@law.utexas.edu</a> no later than seven business days prior to the event.</p>
CATEGORIES:Lunch
LOCATION:TNH 2.124 - Reaud Classroom
URL:http://law.utexas.edu/calendar/2017/10/12/33944/
CLASS:PUBLIC
STATUS:CONFIRMED
COMMENT:Email utacs.president@gmail.com
END:VEVENT
END:VCALENDAR