BEGIN:VCALENDAR
VERSION:2.0
PRODID:-//UNIVERSITY OF TEXAS SCHOOL OF LAW//NONSGML Events Calendar v1.0//EN
X-WR-TIMEZONE:America/Chicago
BEGIN:VTIMEZONE
TZID:US/Central
X-LIC-LOCATION:America/Chicago
BEGIN:DAYLIGHT
TZOFFSETFROM:-0600
TZOFFSETTO:-0500
TZNAME:CDT
DTSTART:19700308T020000
RRULE:FREQ=YEARLY;BYMONTH=3;BYDAY=2SU
END:DAYLIGHT
BEGIN:STANDARD
TZOFFSETFROM:-0500
TZOFFSETTO:-0600
TZNAME:CST
DTSTART:19701101T020000
RRULE:FREQ=YEARLY;BYMONTH=11;BYDAY=1SU
END:STANDARD
END:VTIMEZONE
BEGIN:VEVENT
DTSTART;TZID=US/Central:20171016T110000
DTEND;VALUE=DATE-TIME;TZID=US/Central:20171016T153000

DTSTAMP:20260420T013600Z
CREATED:20170929T195400Z
LAST-MODIFIED:20170929T195400Z
UID:20171016T110000-33724@law.utexas.edu
SUMMARY:Society Shirt Monday
DESCRIPTION:<p>Society Shirt Monday kicks off Texas Law's Annual Society Week!  1Ls, be sure to wear your society shirt to class.  2Ls and 3Ls, be sure come to the Atrium with your society shirt to be counted in the final tally!</p>\n\nIf you need an accommodation to participate in this event, please contact the event sponsor or the Texas Law Special Events Office at specialevents@law.utexas.edu no later than seven business days prior to the event.
X-ALT-DESC;FMTTYPE=text/html:<p>Society Shirt Monday kicks off Texas Law's Annual Society Week!  1Ls, be sure to wear your society shirt to class.  2Ls and 3Ls, be sure come to the Atrium with your society shirt to be counted in the final tally!</p><p>If you need an accommodation to participate in this event, please contact the event
                                          event sponsor or the Texas Law Special Events Office at <a href="mailto:specialevents@law.utexas.edu">specialevents@law.utexas.edu</a> no later than seven business days prior to the event.</p>

LOCATION:TNH 2.100 - Susman Godfrey Atrium
URL:http://law.utexas.edu/calendar/2017/10/16/33724/
CLASS:PUBLIC
STATUS:CONFIRMED

END:VEVENT
END:VCALENDAR