BEGIN:VCALENDAR
VERSION:2.0
PRODID:-//UNIVERSITY OF TEXAS SCHOOL OF LAW//NONSGML Events Calendar v1.0//EN
X-WR-TIMEZONE:America/Chicago
BEGIN:VTIMEZONE
TZID:US/Central
X-LIC-LOCATION:America/Chicago
BEGIN:DAYLIGHT
TZOFFSETFROM:-0600
TZOFFSETTO:-0500
TZNAME:CDT
DTSTART:19700308T020000
RRULE:FREQ=YEARLY;BYMONTH=3;BYDAY=2SU
END:DAYLIGHT
BEGIN:STANDARD
TZOFFSETFROM:-0500
TZOFFSETTO:-0600
TZNAME:CST
DTSTART:19701101T020000
RRULE:FREQ=YEARLY;BYMONTH=11;BYDAY=1SU
END:STANDARD
END:VTIMEZONE
BEGIN:VEVENT
DTSTART;TZID=US/Central:20171016T114500
DTEND;VALUE=DATE-TIME;TZID=US/Central:20171016T130000

DTSTAMP:20260420T001300Z
CREATED:20171012T184600Z
LAST-MODIFIED:20171012T184600Z
UID:20171016T114500-34045@law.utexas.edu
SUMMARY:IPLS Meeting with Fish &amp; Richardson
DESCRIPTION:<p>Fish &amp; Richardson lawyers from Austin, Houston, and Dallas are coming to discuss their Intellectual Property practice with Chick Fil A for lunch. Also, from 5 to 7 that evening, Fish &amp; Richardson will be hosting a happy hour at Crown &amp; Anchor. Hope to see you all there. </p>\n\nIf you need an accommodation to participate in this event, please contact the event sponsor or the Texas Law Special Events Office at specialevents@law.utexas.edu no later than seven business days prior to the event.
X-ALT-DESC;FMTTYPE=text/html:<p>Fish &amp; Richardson lawyers from Austin, Houston, and Dallas are coming to discuss their Intellectual Property practice with Chick Fil A for lunch. Also, from 5 to 7 that evening, Fish &amp; Richardson will be hosting a happy hour at Crown &amp; Anchor. Hope to see you all there. </p><p>If you need an accommodation to participate in this event, please contact the event
                                          event sponsor or the Texas Law Special Events Office at <a href="mailto:specialevents@law.utexas.edu">specialevents@law.utexas.edu</a> no later than seven business days prior to the event.</p>

LOCATION:TNH 3.124 - Neathery Classroom
URL:http://law.utexas.edu/calendar/2017/10/16/34045/
CLASS:PUBLIC
STATUS:CONFIRMED

END:VEVENT
END:VCALENDAR