BEGIN:VCALENDAR
VERSION:2.0
PRODID:-//UNIVERSITY OF TEXAS SCHOOL OF LAW//NONSGML Events Calendar v1.0//EN
X-WR-TIMEZONE:America/Chicago
BEGIN:VTIMEZONE
TZID:US/Central
X-LIC-LOCATION:America/Chicago
BEGIN:DAYLIGHT
TZOFFSETFROM:-0600
TZOFFSETTO:-0500
TZNAME:CDT
DTSTART:19700308T020000
RRULE:FREQ=YEARLY;BYMONTH=3;BYDAY=2SU
END:DAYLIGHT
BEGIN:STANDARD
TZOFFSETFROM:-0500
TZOFFSETTO:-0600
TZNAME:CST
DTSTART:19701101T020000
RRULE:FREQ=YEARLY;BYMONTH=11;BYDAY=1SU
END:STANDARD
END:VTIMEZONE
BEGIN:VEVENT
DTSTART;TZID=US/Central:20171019T080000
DTEND;VALUE=DATE-TIME;TZID=US/Central:20171019T120000

DTSTAMP:20260420T001300Z
CREATED:20171002T205600Z
LAST-MODIFIED:20171002T205600Z
UID:20171019T080000-33787@law.utexas.edu
SUMMARY:Document Solutions Showcase
DESCRIPTION:<p>Document Solutions is hosting a showcase on October 19th to inform attendees about the numerous services offered to UT Students, Faculty, and Staff. Representatives will be available to speak about ordering prints, copiers, promotional products, banners, conference posters, mail services, course packets and much more! All are welcome.</p>\n\nIf you need an accommodation to participate in this event, please contact the event sponsor or the Texas Law Special Events Office at specialevents@law.utexas.edu no later than seven business days prior to the event.
X-ALT-DESC;FMTTYPE=text/html:<p>Document Solutions is hosting a showcase on October 19th to inform attendees about the numerous services offered to UT Students, Faculty, and Staff. Representatives will be available to speak about ordering prints, copiers, promotional products, banners, conference posters, mail services, course packets and much more! All are welcome.</p><p>If you need an accommodation to participate in this event, please contact the event
                                          event sponsor or the Texas Law Special Events Office at <a href="mailto:specialevents@law.utexas.edu">specialevents@law.utexas.edu</a> no later than seven business days prior to the event.</p>
CATEGORIES:Other
LOCATION:TNH 2.100 - Susman Godfrey Atrium
URL:http://law.utexas.edu/calendar/2017/10/19/33787/
CLASS:PUBLIC
STATUS:CONFIRMED

END:VEVENT
END:VCALENDAR