BEGIN:VCALENDAR
VERSION:2.0
PRODID:-//UNIVERSITY OF TEXAS SCHOOL OF LAW//NONSGML Events Calendar v1.0//EN
X-WR-TIMEZONE:America/Chicago
BEGIN:VTIMEZONE
TZID:US/Central
X-LIC-LOCATION:America/Chicago
BEGIN:DAYLIGHT
TZOFFSETFROM:-0600
TZOFFSETTO:-0500
TZNAME:CDT
DTSTART:19700308T020000
RRULE:FREQ=YEARLY;BYMONTH=3;BYDAY=2SU
END:DAYLIGHT
BEGIN:STANDARD
TZOFFSETFROM:-0500
TZOFFSETTO:-0600
TZNAME:CST
DTSTART:19701101T020000
RRULE:FREQ=YEARLY;BYMONTH=11;BYDAY=1SU
END:STANDARD
END:VTIMEZONE
BEGIN:VEVENT
DTSTART;TZID=US/Central:20171023T114500
DTEND;VALUE=DATE-TIME;TZID=US/Central:20171023T130000

DTSTAMP:20260420T020000Z
CREATED:20171019T223400Z
LAST-MODIFIED:20171019T223400Z
UID:20171023T114500-34305@law.utexas.edu
SUMMARY:First Gen Lunch and Panel Discussion
DESCRIPTION:<p>Please join the Student Affairs Office and the Society Program for the Texas Law First Generation Student Lunch and Panel Discussion.  Five of your Dean's Fellows will be on hand to discuss their experiences as first generation students, either as the first in their family to graduate college or the first in their family to attend law school.  Topics will include: preparing for final exams, getting ready for the summer job search, and strategies for the Thanksgiving holiday.</p>
  <p>This event is designed specifically for first-year, first generation students, but all students are welcome!
  </p>\n\nIf you need an accommodation to participate in this event, please contact the event sponsor or the Texas Law Special Events Office at specialevents@law.utexas.edu no later than seven business days prior to the event.
X-ALT-DESC;FMTTYPE=text/html:<p>Please join the Student Affairs Office and the Society Program for the Texas Law First Generation Student Lunch and Panel Discussion.  Five of your Dean's Fellows will be on hand to discuss their experiences as first generation students, either as the first in their family to graduate college or the first in their family to attend law school.  Topics will include: preparing for final exams, getting ready for the summer job search, and strategies for the Thanksgiving holiday.</p>
  <p>This event is designed specifically for first-year, first generation students, but all students are welcome!
  </p><p>If you need an accommodation to participate in this event, please contact the event
                                          event sponsor or the Texas Law Special Events Office at <a href="mailto:specialevents@law.utexas.edu">specialevents@law.utexas.edu</a> no later than seven business days prior to the event.</p>
CATEGORIES:Panel Discussion / Speaker Series
LOCATION:TNH 2.137 - Gayle Classroom
URL:http://law.utexas.edu/calendar/2017/10/23/34305/
CLASS:PUBLIC
STATUS:CONFIRMED

END:VEVENT
END:VCALENDAR