BEGIN:VCALENDAR
VERSION:2.0
PRODID:-//UNIVERSITY OF TEXAS SCHOOL OF LAW//NONSGML Events Calendar v1.0//EN
X-WR-TIMEZONE:America/Chicago
BEGIN:VTIMEZONE
TZID:US/Central
X-LIC-LOCATION:America/Chicago
BEGIN:DAYLIGHT
TZOFFSETFROM:-0600
TZOFFSETTO:-0500
TZNAME:CDT
DTSTART:19700308T020000
RRULE:FREQ=YEARLY;BYMONTH=3;BYDAY=2SU
END:DAYLIGHT
BEGIN:STANDARD
TZOFFSETFROM:-0500
TZOFFSETTO:-0600
TZNAME:CST
DTSTART:19701101T020000
RRULE:FREQ=YEARLY;BYMONTH=11;BYDAY=1SU
END:STANDARD
END:VTIMEZONE
BEGIN:VEVENT
DTSTART;TZID=US/Central:20171024T111500
DTEND;VALUE=DATE-TIME;TZID=US/Central:20171024T130000

DTSTAMP:20260420T025500Z
CREATED:20171019T194400Z
LAST-MODIFIED:20171019T195100Z
UID:20171024T111500-34249@law.utexas.edu
SUMMARY:Justice Center Tabling in Atrium
DESCRIPTION:<p>
  Do you have questions about public interest job searches, summer funding, or fellowships?  Did you attend Public Service Expo and wonder about next steps?  Would you like to find other students who share your professional interests?</p>
  <p>The Justice Center staff and students are available to help! We’ll be tabling in the atrium next week:</p>
   
  <p>Tuesday, October 24, 2017</p>
  <p>11:15–11:45</p>
  <p>1:00–1:30</p>
  <p>Wednesday, October, 25, 2017</p>
  <p>
  </p>
  <p>11:00–1:00</p>
   
  <p>Stop by with questions or to say hi!
  </p>\n\nIf you need an accommodation to participate in this event, please contact the event sponsor or the Texas Law Special Events Office at specialevents@law.utexas.edu no later than seven business days prior to the event.
X-ALT-DESC;FMTTYPE=text/html:<p>
  Do you have questions about public interest job searches, summer funding, or fellowships?  Did you attend Public Service Expo and wonder about next steps?  Would you like to find other students who share your professional interests?</p>
  <p>The Justice Center staff and students are available to help! We’ll be tabling in the atrium next week:</p>
   
  <p>Tuesday, October 24, 2017</p>
  <p>11:15–11:45</p>
  <p>1:00–1:30</p>
  <p>Wednesday, October, 25, 2017</p>
  <p>
  </p>
  <p>11:00–1:00</p>
   
  <p>Stop by with questions or to say hi!
  </p><p>If you need an accommodation to participate in this event, please contact the event
                                          event sponsor or the Texas Law Special Events Office at <a href="mailto:specialevents@law.utexas.edu">specialevents@law.utexas.edu</a> no later than seven business days prior to the event.</p>
CATEGORIES:Other
LOCATION:TNH 2.100 - Susman Godfrey Atrium
URL:http://law.utexas.edu/calendar/2017/10/24/34249/
CLASS:PUBLIC
STATUS:CONFIRMED

END:VEVENT
END:VCALENDAR