BEGIN:VCALENDAR
VERSION:2.0
PRODID:-//UNIVERSITY OF TEXAS SCHOOL OF LAW//NONSGML Events Calendar v1.0//EN
X-WR-TIMEZONE:America/Chicago
BEGIN:VTIMEZONE
TZID:US/Central
X-LIC-LOCATION:America/Chicago
BEGIN:DAYLIGHT
TZOFFSETFROM:-0600
TZOFFSETTO:-0500
TZNAME:CDT
DTSTART:19700308T020000
RRULE:FREQ=YEARLY;BYMONTH=3;BYDAY=2SU
END:DAYLIGHT
BEGIN:STANDARD
TZOFFSETFROM:-0500
TZOFFSETTO:-0600
TZNAME:CST
DTSTART:19701101T020000
RRULE:FREQ=YEARLY;BYMONTH=11;BYDAY=1SU
END:STANDARD
END:VTIMEZONE
BEGIN:VEVENT
DTSTART;TZID=US/Central:20171028T130000
DTEND;VALUE=DATE-TIME;TZID=US/Central:20171028T160000

DTSTAMP:20260420T001200Z
CREATED:20170928T221100Z
LAST-MODIFIED:20170928T221100Z
UID:20171028T130000-33644@law.utexas.edu
SUMMARY:V &amp; E and Barbri Exam Workshop
DESCRIPTION:<p>This is an Intensive Exam- Taking Workshop.</p>
  <p>Students will be taught how to: </p>
  <p>1. Effectively manage your time during the exam  </p>
  <p>2. Dissect exam fact patterns and questions  </p>
  <p>3. Identify and frame relevant issues  
          
  4 Apply our unique essay writing methodology  </p>
  <p>5. Draft an A+ answer  
  </p>\n\nIf you need an accommodation to participate in this event, please contact the event sponsor or the Texas Law Special Events Office at specialevents@law.utexas.edu no later than seven business days prior to the event.
X-ALT-DESC;FMTTYPE=text/html:<p>This is an Intensive Exam- Taking Workshop.</p>
  <p>Students will be taught how to: </p>
  <p>1. Effectively manage your time during the exam  </p>
  <p>2. Dissect exam fact patterns and questions  </p>
  <p>3. Identify and frame relevant issues  
          
  4 Apply our unique essay writing methodology  </p>
  <p>5. Draft an A+ answer  
  </p><p>If you need an accommodation to participate in this event, please contact the event
                                          event sponsor or the Texas Law Special Events Office at <a href="mailto:specialevents@law.utexas.edu">specialevents@law.utexas.edu</a> no later than seven business days prior to the event.</p>
CATEGORIES:Workshop / Training Program
LOCATION:TNH 2.137 - Gayle Classroom
URL:http://law.utexas.edu/calendar/2017/10/28/33644/
CLASS:PUBLIC
STATUS:CONFIRMED

END:VEVENT
END:VCALENDAR