BEGIN:VCALENDAR
VERSION:2.0
PRODID:-//UNIVERSITY OF TEXAS SCHOOL OF LAW//NONSGML Events Calendar v1.0//EN
X-WR-TIMEZONE:America/Chicago
BEGIN:VTIMEZONE
TZID:US/Central
X-LIC-LOCATION:America/Chicago
BEGIN:DAYLIGHT
TZOFFSETFROM:-0600
TZOFFSETTO:-0500
TZNAME:CDT
DTSTART:19700308T020000
RRULE:FREQ=YEARLY;BYMONTH=3;BYDAY=2SU
END:DAYLIGHT
BEGIN:STANDARD
TZOFFSETFROM:-0500
TZOFFSETTO:-0600
TZNAME:CST
DTSTART:19701101T020000
RRULE:FREQ=YEARLY;BYMONTH=11;BYDAY=1SU
END:STANDARD
END:VTIMEZONE
BEGIN:VEVENT
DTSTART;TZID=US/Central:20171107T114500
DTEND;VALUE=DATE-TIME;TZID=US/Central:20171107T134500

DTSTAMP:20260420T001200Z
CREATED:20170802T152400Z
LAST-MODIFIED:20171006T160000Z
UID:20171107T114500-32224@law.utexas.edu
SUMMARY:Lives in the Law
DESCRIPTION:<p>11:45 a.m.-12:45 p.m. in the Eidman Courtroom and 12:45-1:45 p.m. in the Jury Room. Lunch served at 12:45 p.m. RSVP by Tuesday, October 31, on <a href="https://law-utexas-csm.symplicity.com/students/"> Symplicity</a> by selecting the "Events" tab.</p>
   
  <p>During the first hour, which is free and open to the public, Stephen Dixon, of counsel with Children’s Rights, will discuss his work on litigation challenging the Texas foster care system in a talk entitled “Advocating for Children in the Texas Foster Care System: Substantive Due Process and the Right to Healthy Childhood Development.” During the second hour he will meet with students more informally over lunch to discuss his life and career, including his path from public defender to civil rights advocate and how the two fields connect and compare.</p>
  <p>More about Children’s Rights and Stephen Dixon: <a href="http://www.childrensrights.org/">Children’s Rights</a> is a national advocacy organization based in New York City that defends the rights of children in foster care. Stephen Dixon joined Children’s Rights in July 2009. Prior to that, he was the section chief in juvenile court for the Office of Public Defender in Baton Rouge, Louisiana. In that capacity, he represented hundreds of youth in both child welfare and delinquency proceedings. He was a co-founder of the Juvenile Law Clinic at the LSU Law Center and was lead counsel in In Re C.B., a landmark Louisiana Supreme Court case on the right to treatment for youth in custody and the right to trial by jury for youth at risk of being placed at hard labor. He also served as a member of the Louisiana Law Institute’s Children’s Code Committee, contributing to legislative reform both within the child welfare and juvenile justice systems.</p>
  <p>The “Lives in the Law” speaker series focuses on the work and lives of lawyers who strive to improve the lives of others through litigation, advocacy and public service.</p>
  <p>Hosted by the Career Services Office and the William Wayne Justice Center for Public Interest Law.</p>\n\nIf you need an accommodation to participate in this event, please contact the event sponsor or the Texas Law Special Events Office at specialevents@law.utexas.edu no later than seven business days prior to the event.
X-ALT-DESC;FMTTYPE=text/html:<p>11:45 a.m.-12:45 p.m. in the Eidman Courtroom and 12:45-1:45 p.m. in the Jury Room. Lunch served at 12:45 p.m. RSVP by Tuesday, October 31, on <a href="https://law-utexas-csm.symplicity.com/students/"> Symplicity</a> by selecting the "Events" tab.</p>
   
  <p>During the first hour, which is free and open to the public, Stephen Dixon, of counsel with Children’s Rights, will discuss his work on litigation challenging the Texas foster care system in a talk entitled “Advocating for Children in the Texas Foster Care System: Substantive Due Process and the Right to Healthy Childhood Development.” During the second hour he will meet with students more informally over lunch to discuss his life and career, including his path from public defender to civil rights advocate and how the two fields connect and compare.</p>
  <p>More about Children’s Rights and Stephen Dixon: <a href="http://www.childrensrights.org/">Children’s Rights</a> is a national advocacy organization based in New York City that defends the rights of children in foster care. Stephen Dixon joined Children’s Rights in July 2009. Prior to that, he was the section chief in juvenile court for the Office of Public Defender in Baton Rouge, Louisiana. In that capacity, he represented hundreds of youth in both child welfare and delinquency proceedings. He was a co-founder of the Juvenile Law Clinic at the LSU Law Center and was lead counsel in In Re C.B., a landmark Louisiana Supreme Court case on the right to treatment for youth in custody and the right to trial by jury for youth at risk of being placed at hard labor. He also served as a member of the Louisiana Law Institute’s Children’s Code Committee, contributing to legislative reform both within the child welfare and juvenile justice systems.</p>
  <p>The “Lives in the Law” speaker series focuses on the work and lives of lawyers who strive to improve the lives of others through litigation, advocacy and public service.</p>
  <p>Hosted by the Career Services Office and the William Wayne Justice Center for Public Interest Law.</p><p>If you need an accommodation to participate in this event, please contact the event
                                          event sponsor or the Texas Law Special Events Office at <a href="mailto:specialevents@law.utexas.edu">specialevents@law.utexas.edu</a> no later than seven business days prior to the event.</p>
CATEGORIES:Workshop / Training Program
LOCATION:CCJ 2.306 - Eidman Courtroom
URL:http://law.utexas.edu/calendar/2017/11/07/32224/
CLASS:PUBLIC
STATUS:CONFIRMED
COMMENT:Please contact Lawson Konvalinka, Public Interest Career Counselor, at <a href="mailto:lkonvalinka@law.utexas.edu">lkonvalinka@law.utexas.edu</a>.
END:VEVENT
END:VCALENDAR