BEGIN:VCALENDAR
VERSION:2.0
PRODID:-//UNIVERSITY OF TEXAS SCHOOL OF LAW//NONSGML Events Calendar v1.0//EN
X-WR-TIMEZONE:America/Chicago
BEGIN:VTIMEZONE
TZID:US/Central
X-LIC-LOCATION:America/Chicago
BEGIN:DAYLIGHT
TZOFFSETFROM:-0600
TZOFFSETTO:-0500
TZNAME:CDT
DTSTART:19700308T020000
RRULE:FREQ=YEARLY;BYMONTH=3;BYDAY=2SU
END:DAYLIGHT
BEGIN:STANDARD
TZOFFSETFROM:-0500
TZOFFSETTO:-0600
TZNAME:CST
DTSTART:19701101T020000
RRULE:FREQ=YEARLY;BYMONTH=11;BYDAY=1SU
END:STANDARD
END:VTIMEZONE
BEGIN:VEVENT
DTSTART;TZID=US/Central:20171107T114500
DTEND;VALUE=DATE-TIME;TZID=US/Central:20171107T130000

DTSTAMP:20260419T202900Z
CREATED:20171024T172900Z
LAST-MODIFIED:20171024T172900Z
UID:20171107T114500-34347@law.utexas.edu
SUMMARY:Firm &amp; Govt Environmental Jobs Panel
DESCRIPTION:<p>Want to know what it is like working at a firm, or for the government, on environmental, energy, and regulatory issues? Join ELS for a panel lunch with lawyers from the Texas Commission on Environmental Quality, Texas Parks and Wildlife, and Lloyd Gosselink. Lunch sponsored by Lloyd Gosselink. Please RSVP to els.texas.law@gmail.com reserve lunch.</p>\n\nIf you need an accommodation to participate in this event, please contact the event sponsor or the Texas Law Special Events Office at specialevents@law.utexas.edu no later than seven business days prior to the event.
X-ALT-DESC;FMTTYPE=text/html:<p>Want to know what it is like working at a firm, or for the government, on environmental, energy, and regulatory issues? Join ELS for a panel lunch with lawyers from the Texas Commission on Environmental Quality, Texas Parks and Wildlife, and Lloyd Gosselink. Lunch sponsored by Lloyd Gosselink. Please RSVP to els.texas.law@gmail.com reserve lunch.</p><p>If you need an accommodation to participate in this event, please contact the event
                                          event sponsor or the Texas Law Special Events Office at <a href="mailto:specialevents@law.utexas.edu">specialevents@law.utexas.edu</a> no later than seven business days prior to the event.</p>
CATEGORIES:Lunch
LOCATION:TNH 2.124 - Reaud Classroom
URL:http://law.utexas.edu/calendar/2017/11/07/34347/
CLASS:PUBLIC
STATUS:CONFIRMED

END:VEVENT
END:VCALENDAR