BEGIN:VCALENDAR
VERSION:2.0
PRODID:-//UNIVERSITY OF TEXAS SCHOOL OF LAW//NONSGML Events Calendar v1.0//EN
X-WR-TIMEZONE:America/Chicago
BEGIN:VTIMEZONE
TZID:US/Central
X-LIC-LOCATION:America/Chicago
BEGIN:DAYLIGHT
TZOFFSETFROM:-0600
TZOFFSETTO:-0500
TZNAME:CDT
DTSTART:19700308T020000
RRULE:FREQ=YEARLY;BYMONTH=3;BYDAY=2SU
END:DAYLIGHT
BEGIN:STANDARD
TZOFFSETFROM:-0500
TZOFFSETTO:-0600
TZNAME:CST
DTSTART:19701101T020000
RRULE:FREQ=YEARLY;BYMONTH=11;BYDAY=1SU
END:STANDARD
END:VTIMEZONE
BEGIN:VEVENT
DTSTART;TZID=US/Central:20171108T154500
DTEND;VALUE=DATE-TIME;TZID=US/Central:20171108T183000

DTSTAMP:20260419T214800Z
CREATED:20170627T214100Z
LAST-MODIFIED:20171101T183000Z
UID:20171108T154500-31494@law.utexas.edu
SUMMARY:Budd Innocence Center Launch
DESCRIPTION:<p>Budd Innocence Center Launch
  Law School 
  Eidman Courtroom
  3:45 p.m. - 5:00 p.m.</p>
  <p>Remarks from Commissioner Rodney Ellis ’79, exonerated inmate Anthony Graves, and criminal defense attorney Barry Scheck </p>
  <p>Reception afterwards in the Jamail Pavililon from 5:00 p.m. - 6:30 p.m.</p>\n\nIf you need an accommodation to participate in this event, please contact the event sponsor or the Texas Law Special Events Office at specialevents@law.utexas.edu no later than seven business days prior to the event.
X-ALT-DESC;FMTTYPE=text/html:<p>Budd Innocence Center Launch
  Law School 
  Eidman Courtroom
  3:45 p.m. - 5:00 p.m.</p>
  <p>Remarks from Commissioner Rodney Ellis ’79, exonerated inmate Anthony Graves, and criminal defense attorney Barry Scheck </p>
  <p>Reception afterwards in the Jamail Pavililon from 5:00 p.m. - 6:30 p.m.</p><p>If you need an accommodation to participate in this event, please contact the event
                                          event sponsor or the Texas Law Special Events Office at <a href="mailto:specialevents@law.utexas.edu">specialevents@law.utexas.edu</a> no later than seven business days prior to the event.</p>
CATEGORIES:Reception
LOCATION:CCJ 2.306 - Eidman Courtroom
URL:http://law.utexas.edu/calendar/2017/11/08/31494/
CLASS:PUBLIC
STATUS:CONFIRMED

END:VEVENT
END:VCALENDAR