BEGIN:VCALENDAR
VERSION:2.0
PRODID:-//UNIVERSITY OF TEXAS SCHOOL OF LAW//NONSGML Events Calendar v1.0//EN
X-WR-TIMEZONE:America/Chicago
BEGIN:VTIMEZONE
TZID:US/Central
X-LIC-LOCATION:America/Chicago
BEGIN:DAYLIGHT
TZOFFSETFROM:-0600
TZOFFSETTO:-0500
TZNAME:CDT
DTSTART:19700308T020000
RRULE:FREQ=YEARLY;BYMONTH=3;BYDAY=2SU
END:DAYLIGHT
BEGIN:STANDARD
TZOFFSETFROM:-0500
TZOFFSETTO:-0600
TZNAME:CST
DTSTART:19701101T020000
RRULE:FREQ=YEARLY;BYMONTH=11;BYDAY=1SU
END:STANDARD
END:VTIMEZONE
BEGIN:VEVENT
DTSTART;TZID=US/Central:20171109T120000
DTEND;VALUE=DATE-TIME;TZID=US/Central:20171109T130000

DTSTAMP:20260419T202900Z
CREATED:20171018T210400Z
LAST-MODIFIED:20171018T213000Z
UID:20171109T120000-34247@law.utexas.edu
SUMMARY:Diversity Lunch Panel-Haynes and Boone
DESCRIPTION:<p>The panel will focus on diversity and inclusion in the legal profession and will provide insight into opportunities available now for law students and tips for long-term career planning.  This panel is intended to be interactive and students will have the opportunity to focus the conversation with their questions and specific topics of interest.  Lunch will be catered from Taco Deli!  RSVP by emailing amy.fry@haynesboone.com.  Please include a copy of your resume.</p>\n\nIf you need an accommodation to participate in this event, please contact the event sponsor or the Texas Law Special Events Office at specialevents@law.utexas.edu no later than seven business days prior to the event.
X-ALT-DESC;FMTTYPE=text/html:<p>The panel will focus on diversity and inclusion in the legal profession and will provide insight into opportunities available now for law students and tips for long-term career planning.  This panel is intended to be interactive and students will have the opportunity to focus the conversation with their questions and specific topics of interest.  Lunch will be catered from Taco Deli!  RSVP by emailing amy.fry@haynesboone.com.  Please include a copy of your resume.</p><p>If you need an accommodation to participate in this event, please contact the event
                                          event sponsor or the Texas Law Special Events Office at <a href="mailto:specialevents@law.utexas.edu">specialevents@law.utexas.edu</a> no later than seven business days prior to the event.</p>
CATEGORIES:Lunch
LOCATION:TNH 2.139 - Wilson Classroom
URL:http://law.utexas.edu/calendar/2017/11/09/34247/
CLASS:PUBLIC
STATUS:CONFIRMED
COMMENT:Email amy.fry@haynesboone.com
END:VEVENT
END:VCALENDAR