BEGIN:VCALENDAR
VERSION:2.0
PRODID:-//UNIVERSITY OF TEXAS SCHOOL OF LAW//NONSGML Events Calendar v1.0//EN
X-WR-TIMEZONE:America/Chicago
BEGIN:VTIMEZONE
TZID:US/Central
X-LIC-LOCATION:America/Chicago
BEGIN:DAYLIGHT
TZOFFSETFROM:-0600
TZOFFSETTO:-0500
TZNAME:CDT
DTSTART:19700308T020000
RRULE:FREQ=YEARLY;BYMONTH=3;BYDAY=2SU
END:DAYLIGHT
BEGIN:STANDARD
TZOFFSETFROM:-0500
TZOFFSETTO:-0600
TZNAME:CST
DTSTART:19701101T020000
RRULE:FREQ=YEARLY;BYMONTH=11;BYDAY=1SU
END:STANDARD
END:VTIMEZONE
BEGIN:VEVENT
DTSTART;TZID=US/Central:20171113T160000
DTEND;VALUE=DATE-TIME;TZID=US/Central:20171113T180000

DTSTAMP:20260419T214500Z
CREATED:20170828T194000Z
LAST-MODIFIED:20170828T194000Z
UID:20171113T160000-32865@law.utexas.edu
SUMMARY:Labor Migration in Turkey
DESCRIPTION:<p>As part of the Rapoport Center's fall colloquium on Labor, Inequality and Human Rights, Professor Ayshe Parla of Sabanci University (Istanbul) will present a lecture entitled “Labor Migration, Degrees of Privilege, and the Politics of Hope in Turkey.”</p>\n\nIf you need an accommodation to participate in this event, please contact the event sponsor or the Texas Law Special Events Office at specialevents@law.utexas.edu no later than seven business days prior to the event. Speaker: Ayshe Parla, A, Sabanci Universitesi, Istanbul
X-ALT-DESC;FMTTYPE=text/html:<p>As part of the Rapoport Center's fall colloquium on Labor, Inequality and Human Rights, Professor Ayshe Parla of Sabanci University (Istanbul) will present a lecture entitled “Labor Migration, Degrees of Privilege, and the Politics of Hope in Turkey.”</p><p>If you need an accommodation to participate in this event, please contact the event
                                          event sponsor or the Texas Law Special Events Office at <a href="mailto:specialevents@law.utexas.edu">specialevents@law.utexas.edu</a> no later than seven business days prior to the event.</p> Speaker: Ayshe Parla, A, Sabanci Universitesi, Istanbul

LOCATION:TNH 2.111 - Sheffield-Massey Room
URL:http://law.utexas.edu/calendar/2017/11/13/32865/
CLASS:PUBLIC
STATUS:CONFIRMED
COMMENT:Email Sarah Cline: scline@law.utexas.edu
END:VEVENT
END:VCALENDAR