BEGIN:VCALENDAR
VERSION:2.0
PRODID:-//UNIVERSITY OF TEXAS SCHOOL OF LAW//NONSGML Events Calendar v1.0//EN
X-WR-TIMEZONE:America/Chicago
BEGIN:VTIMEZONE
TZID:US/Central
X-LIC-LOCATION:America/Chicago
BEGIN:DAYLIGHT
TZOFFSETFROM:-0600
TZOFFSETTO:-0500
TZNAME:CDT
DTSTART:19700308T020000
RRULE:FREQ=YEARLY;BYMONTH=3;BYDAY=2SU
END:DAYLIGHT
BEGIN:STANDARD
TZOFFSETFROM:-0500
TZOFFSETTO:-0600
TZNAME:CST
DTSTART:19701101T020000
RRULE:FREQ=YEARLY;BYMONTH=11;BYDAY=1SU
END:STANDARD
END:VTIMEZONE
BEGIN:VEVENT
DTSTART;TZID=US/Central:20171113T120000
DTEND;VALUE=DATE-TIME;TZID=US/Central:20171113T124500

DTSTAMP:20260419T201800Z
CREATED:20171106T182900Z
LAST-MODIFIED:20171110T220600Z
UID:20171113T120000-34744@law.utexas.edu
SUMMARY:Public Interest Summer Employer Panel
DESCRIPTION:<p>Join PILA for a panel discussion on summer internships in public interest. The panel will feature the following organizations: RAICES, TRLA, CAPDS, and DRTX.</p>
  <p>Lunch will be served. RSVP by Friday, November 10, on <a href="https://law-utexas-csm.symplicity.com/students/"> Symplicity</a> by selecting the "Events" tab.</p>\n\nIf you need an accommodation to participate in this event, please contact the event sponsor or the Texas Law Special Events Office at specialevents@law.utexas.edu no later than seven business days prior to the event.
X-ALT-DESC;FMTTYPE=text/html:<p>Join PILA for a panel discussion on summer internships in public interest. The panel will feature the following organizations: RAICES, TRLA, CAPDS, and DRTX.</p>
  <p>Lunch will be served. RSVP by Friday, November 10, on <a href="https://law-utexas-csm.symplicity.com/students/"> Symplicity</a> by selecting the "Events" tab.</p><p>If you need an accommodation to participate in this event, please contact the event
                                          event sponsor or the Texas Law Special Events Office at <a href="mailto:specialevents@law.utexas.edu">specialevents@law.utexas.edu</a> no later than seven business days prior to the event.</p>
CATEGORIES:Panel Discussion / Speaker Series
LOCATION:TNH 3.127 - Roberts Classroom
URL:http://law.utexas.edu/calendar/2017/11/13/34744/
CLASS:PUBLIC
STATUS:CONFIRMED
COMMENT:Please contact Lawson Konvanlinka, Public Interest Career Counselor, at <a href="mailto:lkonvalinka@law.utexas.edu">lkonvalinka@law.utexas.edu</a>.
END:VEVENT
END:VCALENDAR