BEGIN:VCALENDAR
VERSION:2.0
PRODID:-//UNIVERSITY OF TEXAS SCHOOL OF LAW//NONSGML Events Calendar v1.0//EN
X-WR-TIMEZONE:America/Chicago
BEGIN:VTIMEZONE
TZID:US/Central
X-LIC-LOCATION:America/Chicago
BEGIN:DAYLIGHT
TZOFFSETFROM:-0600
TZOFFSETTO:-0500
TZNAME:CDT
DTSTART:19700308T020000
RRULE:FREQ=YEARLY;BYMONTH=3;BYDAY=2SU
END:DAYLIGHT
BEGIN:STANDARD
TZOFFSETFROM:-0500
TZOFFSETTO:-0600
TZNAME:CST
DTSTART:19701101T020000
RRULE:FREQ=YEARLY;BYMONTH=11;BYDAY=1SU
END:STANDARD
END:VTIMEZONE
BEGIN:VEVENT
DTSTART;TZID=US/Central:20171113T180000
DTEND;VALUE=DATE-TIME;TZID=US/Central:20171113T200000

DTSTAMP:20260419T201800Z
CREATED:20171108T205500Z
LAST-MODIFIED:20171108T205500Z
UID:20171113T180000-34784@law.utexas.edu
SUMMARY:Class Divided: A Screening
DESCRIPTION:<p>Join the American Constitution Society at Texas Law for a screening of the HBO documentary "Class Divide." The film focuses on the impact of gentrification in the Manhattan neighborhood of Chelsea as an example of the growing economic disparity in urban communities across the country. Dinner will be provided and a short group discussion will follow the screening.</p>
  <p>Synopsis from HBO: In the final part of their trilogy about economic forces affecting ordinary people, director Marc Levin and producer Daphne Pinkerson (HBO?s Schmatta: Rags to Riches to Rags and Hard Times: Lost on Long Island) explore the effects of hyper-gentrification and rising economic disparity in one New York City neighborhood, which can be seen as a microcosm of the socioeconomic imbalances across the country, and the world. The film bears witness to the profound effects of gentrification and stagnant class mobility on young people who share a West Chelsea community -- yet live in very different worlds -- as they try to navigate this rapidly changing landscape.</p>\n\nIf you need an accommodation to participate in this event, please contact the event sponsor or the Texas Law Special Events Office at specialevents@law.utexas.edu no later than seven business days prior to the event.
X-ALT-DESC;FMTTYPE=text/html:<p>Join the American Constitution Society at Texas Law for a screening of the HBO documentary "Class Divide." The film focuses on the impact of gentrification in the Manhattan neighborhood of Chelsea as an example of the growing economic disparity in urban communities across the country. Dinner will be provided and a short group discussion will follow the screening.</p>
  <p>Synopsis from HBO: In the final part of their trilogy about economic forces affecting ordinary people, director Marc Levin and producer Daphne Pinkerson (HBO?s Schmatta: Rags to Riches to Rags and Hard Times: Lost on Long Island) explore the effects of hyper-gentrification and rising economic disparity in one New York City neighborhood, which can be seen as a microcosm of the socioeconomic imbalances across the country, and the world. The film bears witness to the profound effects of gentrification and stagnant class mobility on young people who share a West Chelsea community -- yet live in very different worlds -- as they try to navigate this rapidly changing landscape.</p><p>If you need an accommodation to participate in this event, please contact the event
                                          event sponsor or the Texas Law Special Events Office at <a href="mailto:specialevents@law.utexas.edu">specialevents@law.utexas.edu</a> no later than seven business days prior to the event.</p>
CATEGORIES:Other
LOCATION:TNH 3.127 - Roberts Classroom
URL:http://law.utexas.edu/calendar/2017/11/13/34784/
CLASS:PUBLIC
STATUS:CONFIRMED
COMMENT:Email utacs.president@gmail.com
END:VEVENT
END:VCALENDAR