BEGIN:VCALENDAR
VERSION:2.0
PRODID:-//UNIVERSITY OF TEXAS SCHOOL OF LAW//NONSGML Events Calendar v1.0//EN
X-WR-TIMEZONE:America/Chicago
BEGIN:VTIMEZONE
TZID:US/Central
X-LIC-LOCATION:America/Chicago
BEGIN:DAYLIGHT
TZOFFSETFROM:-0600
TZOFFSETTO:-0500
TZNAME:CDT
DTSTART:19700308T020000
RRULE:FREQ=YEARLY;BYMONTH=3;BYDAY=2SU
END:DAYLIGHT
BEGIN:STANDARD
TZOFFSETFROM:-0500
TZOFFSETTO:-0600
TZNAME:CST
DTSTART:19701101T020000
RRULE:FREQ=YEARLY;BYMONTH=11;BYDAY=1SU
END:STANDARD
END:VTIMEZONE
BEGIN:VEVENT
DTSTART;TZID=US/Central:20171114T163000
DTEND;VALUE=DATE-TIME;TZID=US/Central:20171114T180000

DTSTAMP:20260419T202900Z
CREATED:20171103T170800Z
LAST-MODIFIED:20171103T170800Z
UID:20171114T163000-34665@law.utexas.edu
SUMMARY:Presentation: Human Rights Clinic report
DESCRIPTION:<p>The Human Rights Clinic at TexasLaw will present its report "Control... Over the Entire State of Coahuila, An analysis of testimonies in trials agains Zeta members in San Antonio, Austin, and Del Rio, Texas."  Panelists will include Clinical Professor Ariel Dulitzky, Clinic students Moravia de la O and Sarah Gohary, and Melissa del Bosque of The Texas Observer.  Ricardo Ainslie, Director of the Mexico Center and Professor in Education, will serve as the moderator. Co-sponsored by LLILAS Benson and the Rapoport Center for Human Rights and Justice.</p>\n\nIf you need an accommodation to participate in this event, please contact the event sponsor or the Texas Law Special Events Office at specialevents@law.utexas.edu no later than seven business days prior to the event.
X-ALT-DESC;FMTTYPE=text/html:<p>The Human Rights Clinic at TexasLaw will present its report "Control... Over the Entire State of Coahuila, An analysis of testimonies in trials agains Zeta members in San Antonio, Austin, and Del Rio, Texas."  Panelists will include Clinical Professor Ariel Dulitzky, Clinic students Moravia de la O and Sarah Gohary, and Melissa del Bosque of The Texas Observer.  Ricardo Ainslie, Director of the Mexico Center and Professor in Education, will serve as the moderator. Co-sponsored by LLILAS Benson and the Rapoport Center for Human Rights and Justice.</p><p>If you need an accommodation to participate in this event, please contact the event
                                          event sponsor or the Texas Law Special Events Office at <a href="mailto:specialevents@law.utexas.edu">specialevents@law.utexas.edu</a> no later than seven business days prior to the event.</p>
CATEGORIES:Panel Discussion / Speaker Series
LOCATION:CCJ 2.306 - Eidman Courtroom
URL:http://law.utexas.edu/calendar/2017/11/14/34665/
CLASS:PUBLIC
STATUS:CONFIRMED
COMMENT:Contact Ted Magee at (512) 232-5304 or tmagee@law.utexas.edu
END:VEVENT
END:VCALENDAR