BEGIN:VCALENDAR
VERSION:2.0
PRODID:-//UNIVERSITY OF TEXAS SCHOOL OF LAW//NONSGML Events Calendar v1.0//EN
X-WR-TIMEZONE:America/Chicago
BEGIN:VTIMEZONE
TZID:US/Central
X-LIC-LOCATION:America/Chicago
BEGIN:DAYLIGHT
TZOFFSETFROM:-0600
TZOFFSETTO:-0500
TZNAME:CDT
DTSTART:19700308T020000
RRULE:FREQ=YEARLY;BYMONTH=3;BYDAY=2SU
END:DAYLIGHT
BEGIN:STANDARD
TZOFFSETFROM:-0500
TZOFFSETTO:-0600
TZNAME:CST
DTSTART:19701101T020000
RRULE:FREQ=YEARLY;BYMONTH=11;BYDAY=1SU
END:STANDARD
END:VTIMEZONE
BEGIN:VEVENT
DTSTART;TZID=US/Central:20171114T183000
DTEND;VALUE=DATE-TIME;TZID=US/Central:20171114T200000

DTSTAMP:20260419T214700Z
CREATED:20171108T194700Z
LAST-MODIFIED:20171108T194700Z
UID:20171114T183000-34764@law.utexas.edu
SUMMARY:LGBTQ Career Panel
DESCRIPTION:<p>OUTLaw, the Austin LGBT Bar Association, and Norton Rose Fulbright present a career panel with practicing Austin-area LGBTQ attorneys representing a variety of practice areas and types of work. Designed to help law school students at every stage in their career search, the panelists will speak about their experiences navigating their career path and about being LGBTQ in the workplace. In addition, panelists will provide students with concrete strategies for </p>
  <p>Students will have the option for engaging in a mock interviews with the panelists following the panel.    </p>\n\nIf you need an accommodation to participate in this event, please contact the event sponsor or the Texas Law Special Events Office at specialevents@law.utexas.edu no later than seven business days prior to the event.
X-ALT-DESC;FMTTYPE=text/html:<p>OUTLaw, the Austin LGBT Bar Association, and Norton Rose Fulbright present a career panel with practicing Austin-area LGBTQ attorneys representing a variety of practice areas and types of work. Designed to help law school students at every stage in their career search, the panelists will speak about their experiences navigating their career path and about being LGBTQ in the workplace. In addition, panelists will provide students with concrete strategies for </p>
  <p>Students will have the option for engaging in a mock interviews with the panelists following the panel.    </p><p>If you need an accommodation to participate in this event, please contact the event
                                          event sponsor or the Texas Law Special Events Office at <a href="mailto:specialevents@law.utexas.edu">specialevents@law.utexas.edu</a> no later than seven business days prior to the event.</p>
CATEGORIES:Panel Discussion / Speaker Series
LOCATION:CCJ 2.310 - Jury Room
URL:http://law.utexas.edu/calendar/2017/11/14/34764/
CLASS:PUBLIC
STATUS:CONFIRMED

END:VEVENT
END:VCALENDAR