BEGIN:VCALENDAR
VERSION:2.0
PRODID:-//UNIVERSITY OF TEXAS SCHOOL OF LAW//NONSGML Events Calendar v1.0//EN
X-WR-TIMEZONE:America/Chicago
BEGIN:VTIMEZONE
TZID:US/Central
X-LIC-LOCATION:America/Chicago
BEGIN:DAYLIGHT
TZOFFSETFROM:-0600
TZOFFSETTO:-0500
TZNAME:CDT
DTSTART:19700308T020000
RRULE:FREQ=YEARLY;BYMONTH=3;BYDAY=2SU
END:DAYLIGHT
BEGIN:STANDARD
TZOFFSETFROM:-0500
TZOFFSETTO:-0600
TZNAME:CST
DTSTART:19701101T020000
RRULE:FREQ=YEARLY;BYMONTH=11;BYDAY=1SU
END:STANDARD
END:VTIMEZONE
BEGIN:VEVENT
DTSTART;TZID=US/Central:20171115T100000
DTEND;VALUE=DATE-TIME;TZID=US/Central:20171115T140000

DTSTAMP:20260419T203100Z
CREATED:20171107T183000Z
LAST-MODIFIED:20171107T183000Z
UID:20171115T100000-34746@law.utexas.edu
SUMMARY:Thanks Day
DESCRIPTION:<p>Thanks Day is an annual celebration when UT students have the opportunity to thank our donors and learn about the importance of philanthropy. The Student Steering Committee will be tabling in the Atrium where students can help write thank you notes to Law School donors. 
  Treats and swag will be given away to those that participate. 
  </p>\n\nIf you need an accommodation to participate in this event, please contact the event sponsor or the Texas Law Special Events Office at specialevents@law.utexas.edu no later than seven business days prior to the event.
X-ALT-DESC;FMTTYPE=text/html:<p>Thanks Day is an annual celebration when UT students have the opportunity to thank our donors and learn about the importance of philanthropy. The Student Steering Committee will be tabling in the Atrium where students can help write thank you notes to Law School donors. 
  Treats and swag will be given away to those that participate. 
  </p><p>If you need an accommodation to participate in this event, please contact the event
                                          event sponsor or the Texas Law Special Events Office at <a href="mailto:specialevents@law.utexas.edu">specialevents@law.utexas.edu</a> no later than seven business days prior to the event.</p>

LOCATION:TNH 2.100 - Susman Godfrey Atrium
URL:http://law.utexas.edu/calendar/2017/11/15/34746/
CLASS:PUBLIC
STATUS:CONFIRMED

END:VEVENT
END:VCALENDAR