BEGIN:VCALENDAR
VERSION:2.0
PRODID:-//UNIVERSITY OF TEXAS SCHOOL OF LAW//NONSGML Events Calendar v1.0//EN
X-WR-TIMEZONE:America/Chicago
BEGIN:VTIMEZONE
TZID:US/Central
X-LIC-LOCATION:America/Chicago
BEGIN:DAYLIGHT
TZOFFSETFROM:-0600
TZOFFSETTO:-0500
TZNAME:CDT
DTSTART:19700308T020000
RRULE:FREQ=YEARLY;BYMONTH=3;BYDAY=2SU
END:DAYLIGHT
BEGIN:STANDARD
TZOFFSETFROM:-0500
TZOFFSETTO:-0600
TZNAME:CST
DTSTART:19701101T020000
RRULE:FREQ=YEARLY;BYMONTH=11;BYDAY=1SU
END:STANDARD
END:VTIMEZONE
BEGIN:VEVENT
DTSTART;TZID=US/Central:20171117T133000
DTEND;VALUE=DATE-TIME;TZID=US/Central:20171117T150000

DTSTAMP:20260419T215300Z
CREATED:20170802T192400Z
LAST-MODIFIED:20171101T220000Z
UID:20171117T133000-32246@law.utexas.edu
SUMMARY:1L Practice Exam
DESCRIPTION:<p>Each section will have the opportunity to take a practice issue spotting exam question and use the law school's exam taking software.</p>
  <p>Section 1: Torts; 1:30pm; TNH 2.137</p>
  <p>Section 2: Property; 1:30pm; TNH 2.138</p>
  <p>Section 3: Torts; 12:00pm; TNH 2.140</p>
  <p>Section 4: Property; 10:30am; TNH 2.139</p>\n\nIf you need an accommodation to participate in this event, please contact the event sponsor or the Texas Law Special Events Office at specialevents@law.utexas.edu no later than seven business days prior to the event.
X-ALT-DESC;FMTTYPE=text/html:<p>Each section will have the opportunity to take a practice issue spotting exam question and use the law school's exam taking software.</p>
  <p>Section 1: Torts; 1:30pm; TNH 2.137</p>
  <p>Section 2: Property; 1:30pm; TNH 2.138</p>
  <p>Section 3: Torts; 12:00pm; TNH 2.140</p>
  <p>Section 4: Property; 10:30am; TNH 2.139</p><p>If you need an accommodation to participate in this event, please contact the event
                                          event sponsor or the Texas Law Special Events Office at <a href="mailto:specialevents@law.utexas.edu">specialevents@law.utexas.edu</a> no later than seven business days prior to the event.</p>
CATEGORIES:Workshop / Training Program
LOCATION:TNH 2.137 - Gayle Classroom
URL:http://law.utexas.edu/calendar/2017/11/17/32246/
CLASS:PUBLIC
STATUS:CONFIRMED

END:VEVENT
END:VCALENDAR