BEGIN:VCALENDAR
VERSION:2.0
PRODID:-//UNIVERSITY OF TEXAS SCHOOL OF LAW//NONSGML Events Calendar v1.0//EN
X-WR-TIMEZONE:America/Chicago
BEGIN:VTIMEZONE
TZID:US/Central
X-LIC-LOCATION:America/Chicago
BEGIN:DAYLIGHT
TZOFFSETFROM:-0600
TZOFFSETTO:-0500
TZNAME:CDT
DTSTART:19700308T020000
RRULE:FREQ=YEARLY;BYMONTH=3;BYDAY=2SU
END:DAYLIGHT
BEGIN:STANDARD
TZOFFSETFROM:-0500
TZOFFSETTO:-0600
TZNAME:CST
DTSTART:19701101T020000
RRULE:FREQ=YEARLY;BYMONTH=11;BYDAY=1SU
END:STANDARD
END:VTIMEZONE
BEGIN:VEVENT
DTSTART;TZID=US/Central:20171117T150000
DTEND;VALUE=DATE-TIME;TZID=US/Central:20171117T160000

DTSTAMP:20260419T203700Z
CREATED:20171101T210600Z
LAST-MODIFIED:20171108T170300Z
UID:20171117T150000-34605@law.utexas.edu
SUMMARY:LLM Exam Review and Q&amp;A
DESCRIPTION:<p>LLM and Exchange students may test out the Extegrity's Exam4 software and ask general exam related questions. Brandi Welch will go over the exam procedures and take everyone through an exam from start to finish. Brandi and Carly Toepke will then take questions regarding exams. </p>
  <p>All students are encouraged to attend the Law School 101 Exam Taking session on Nov 14 at noon.  </p>\n\nIf you need an accommodation to participate in this event, please contact the event sponsor or the Texas Law Special Events Office at specialevents@law.utexas.edu no later than seven business days prior to the event.
X-ALT-DESC;FMTTYPE=text/html:<p>LLM and Exchange students may test out the Extegrity's Exam4 software and ask general exam related questions. Brandi Welch will go over the exam procedures and take everyone through an exam from start to finish. Brandi and Carly Toepke will then take questions regarding exams. </p>
  <p>All students are encouraged to attend the Law School 101 Exam Taking session on Nov 14 at noon.  </p><p>If you need an accommodation to participate in this event, please contact the event
                                          event sponsor or the Texas Law Special Events Office at <a href="mailto:specialevents@law.utexas.edu">specialevents@law.utexas.edu</a> no later than seven business days prior to the event.</p>
CATEGORIES:Meeting
LOCATION:TNH 2.138 - Blanton Classroom
URL:http://law.utexas.edu/calendar/2017/11/17/34605/
CLASS:PUBLIC
STATUS:CONFIRMED

END:VEVENT
END:VCALENDAR