BEGIN:VCALENDAR
VERSION:2.0
PRODID:-//UNIVERSITY OF TEXAS SCHOOL OF LAW//NONSGML Events Calendar v1.0//EN
X-WR-TIMEZONE:America/Chicago
BEGIN:VTIMEZONE
TZID:US/Central
X-LIC-LOCATION:America/Chicago
BEGIN:DAYLIGHT
TZOFFSETFROM:-0600
TZOFFSETTO:-0500
TZNAME:CDT
DTSTART:19700308T020000
RRULE:FREQ=YEARLY;BYMONTH=3;BYDAY=2SU
END:DAYLIGHT
BEGIN:STANDARD
TZOFFSETFROM:-0500
TZOFFSETTO:-0600
TZNAME:CST
DTSTART:19701101T020000
RRULE:FREQ=YEARLY;BYMONTH=11;BYDAY=1SU
END:STANDARD
END:VTIMEZONE
BEGIN:VEVENT
DTSTART;TZID=US/Central:20171127T160000
DTEND;VALUE=DATE-TIME;TZID=US/Central:20171127T180000

DTSTAMP:20260419T185800Z
CREATED:20170828T194400Z
LAST-MODIFIED:20171115T192200Z
UID:20171127T160000-32866@law.utexas.edu
SUMMARY:Labor Rights in Trade Agreements
DESCRIPTION:<p>As part of the Rapoport Center's fall colloquium on Labor, Inequality and Human Rights, Professor Alvaro Santos of Georgetown University Law Center will present a lecture entitled “The Future of Labor Rights in Trade Agreements.”</p>\n\nIf you need an accommodation to participate in this event, please contact the event sponsor or the Texas Law Special Events Office at specialevents@law.utexas.edu no later than seven business days prior to the event. Speaker: Alvaro Santos, P, Georgetown University Law Center
X-ALT-DESC;FMTTYPE=text/html:<p>As part of the Rapoport Center's fall colloquium on Labor, Inequality and Human Rights, Professor Alvaro Santos of Georgetown University Law Center will present a lecture entitled “The Future of Labor Rights in Trade Agreements.”</p><p>If you need an accommodation to participate in this event, please contact the event
                                          event sponsor or the Texas Law Special Events Office at <a href="mailto:specialevents@law.utexas.edu">specialevents@law.utexas.edu</a> no later than seven business days prior to the event.</p> Speaker: Alvaro Santos, P, Georgetown University Law Center

LOCATION:TNH 2.111 - Sheffield-Massey Room
URL:http://law.utexas.edu/calendar/2017/11/27/32866/
CLASS:PUBLIC
STATUS:CONFIRMED
COMMENT:Email Sarah Cline: scline@law.utexas.edu
END:VEVENT
END:VCALENDAR