BEGIN:VCALENDAR
VERSION:2.0
PRODID:-//UNIVERSITY OF TEXAS SCHOOL OF LAW//NONSGML Events Calendar v1.0//EN
X-WR-TIMEZONE:America/Chicago
BEGIN:VTIMEZONE
TZID:US/Central
X-LIC-LOCATION:America/Chicago
BEGIN:DAYLIGHT
TZOFFSETFROM:-0600
TZOFFSETTO:-0500
TZNAME:CDT
DTSTART:19700308T020000
RRULE:FREQ=YEARLY;BYMONTH=3;BYDAY=2SU
END:DAYLIGHT
BEGIN:STANDARD
TZOFFSETFROM:-0500
TZOFFSETTO:-0600
TZNAME:CST
DTSTART:19701101T020000
RRULE:FREQ=YEARLY;BYMONTH=11;BYDAY=1SU
END:STANDARD
END:VTIMEZONE
BEGIN:VEVENT
DTSTART;TZID=US/Central:20171129T113000
DTEND;VALUE=DATE-TIME;TZID=US/Central:20171129T133000

DTSTAMP:20260419T202700Z
CREATED:20171117T215000Z
LAST-MODIFIED:20171117T215000Z
UID:20171129T113000-35009@law.utexas.edu
SUMMARY:Wilson Sonsini Meet &amp; Greet
DESCRIPTION:<p>Wilson Sonsini Goodrich &amp; Rosati, PC invites 2L &amp; 3L students students to join them for a lunch snack in the Law School Atrium.  Recruiting personnel will be in attendance to answer questions about the firm on Wednesday, November 29, 2017.  Please be sure to stop by on your way to class.</p>\n\nIf you need an accommodation to participate in this event, please contact the event sponsor or the Texas Law Special Events Office at specialevents@law.utexas.edu no later than seven business days prior to the event.
X-ALT-DESC;FMTTYPE=text/html:<p>Wilson Sonsini Goodrich &amp; Rosati, PC invites 2L &amp; 3L students students to join them for a lunch snack in the Law School Atrium.  Recruiting personnel will be in attendance to answer questions about the firm on Wednesday, November 29, 2017.  Please be sure to stop by on your way to class.</p><p>If you need an accommodation to participate in this event, please contact the event
                                          event sponsor or the Texas Law Special Events Office at <a href="mailto:specialevents@law.utexas.edu">specialevents@law.utexas.edu</a> no later than seven business days prior to the event.</p>
CATEGORIES:Lunch
LOCATION:TNH 2.100 - Susman Godfrey Atrium
URL:http://law.utexas.edu/calendar/2017/11/29/35009/
CLASS:PUBLIC
STATUS:CONFIRMED

END:VEVENT
END:VCALENDAR