BEGIN:VCALENDAR
VERSION:2.0
PRODID:-//UNIVERSITY OF TEXAS SCHOOL OF LAW//NONSGML Events Calendar v1.0//EN
X-WR-TIMEZONE:America/Chicago
BEGIN:VTIMEZONE
TZID:US/Central
X-LIC-LOCATION:America/Chicago
BEGIN:DAYLIGHT
TZOFFSETFROM:-0600
TZOFFSETTO:-0500
TZNAME:CDT
DTSTART:19700308T020000
RRULE:FREQ=YEARLY;BYMONTH=3;BYDAY=2SU
END:DAYLIGHT
BEGIN:STANDARD
TZOFFSETFROM:-0500
TZOFFSETTO:-0600
TZNAME:CST
DTSTART:19701101T020000
RRULE:FREQ=YEARLY;BYMONTH=11;BYDAY=1SU
END:STANDARD
END:VTIMEZONE
BEGIN:VEVENT
DTSTART;TZID=US/Central:20171201T160000
DTEND;VALUE=DATE-TIME;TZID=US/Central:20171201T173000

DTSTAMP:20260419T202800Z
CREATED:20171025T013800Z
LAST-MODIFIED:20171030T184300Z
UID:20171201T160000-34385@law.utexas.edu
SUMMARY:CANCELED: Khizr Khan
DESCRIPTION:<p>Texas Law ACS is honored to host Muslim-American, Gold Star father Khizr Khan for an afternoon lecture.</p>\n\nIf you need an accommodation to participate in this event, please contact the event sponsor or the Texas Law Special Events Office at specialevents@law.utexas.edu no later than seven business days prior to the event.
X-ALT-DESC;FMTTYPE=text/html:<p>Texas Law ACS is honored to host Muslim-American, Gold Star father Khizr Khan for an afternoon lecture.</p><p>If you need an accommodation to participate in this event, please contact the event
                                          event sponsor or the Texas Law Special Events Office at <a href="mailto:specialevents@law.utexas.edu">specialevents@law.utexas.edu</a> no later than seven business days prior to the event.</p>
CATEGORIES:Panel Discussion / Speaker Series
LOCATION:CCJ 2.306 - Eidman Courtroom
URL:http://law.utexas.edu/calendar/2017/12/01/34385/
CLASS:PUBLIC
STATUS:CANCELLED
COMMENT:Contact utacs.president@gmail.com
END:VEVENT
END:VCALENDAR